{"text_format":"1","workbook":"xlsx","n_sheets":17,"sheets":["Title","Airport Details","Plan Profile","Shelter-In-Place","Evacuation","Repopulation","Hurricane","Snow Storm","Earthquake","Tornado","Structural Fire","Electrical Outage","Bomb Threat","Security Breach","Active Shooter","Useful Links","Embedded_Files"],"not_rendered":{"charts":0,"images":99,"macros":1,"external_links":0,"defined_names":58,"comments":13,"pivot_tables":0},"unopened":[],"bounds":{"document_bytes":16777216,"sheet_cells":100000,"rows_first":2000,"rows_last":500,"rows_between":2000,"halvings":0,"cell_chars":16384,"cell_head_chars":4096},"cells_cut":0,"cells_raw":0,"read":"whole","date_system":"1900"}

{"sheet":"Title","index":0,"n_rows":0,"n_cols":0,"rows_kept":0,"cut":false,"hidden":false,"merged":[[24,2,24,8]]}

{"sheet":"Airport Details","index":1,"n_rows":102,"n_cols":6,"rows_kept":102,"cut":false,"hidden":false,"merged":[[2,2,2,3],[4,2,4,3],[10,2,10,3],[15,2,15,3],[16,2,16,3]]}
[null,"Airport Details"]
[]
[null,"Name"]
[]
[null,"Responsible Dept. for this plan"]
[]
[null,"Revision No."]
[null,"Original Date"]
[null,"Revision Date"]
[]
[null,"Airport Sponsor/Owner"]
[]
[null,"International Arrivals/Dep"]
[null,"(involves CBP)"]
[]
[null,"Person approving this plan"]
[null,"Title of the person approving this plan"]
[]
[]
[]
[]
[null,"List of medical facilities and medical transport companies"]
[null,"Medical Facilities","Response Time","Contact Number"]
[]
[]
[]
[]
[]
[null,"Medical Transport","Response Time","Contact Number"]
[]
[]
[]
[]
[]
[]
[null,"List of all tenants and their contacts"]
[null,"Tenants' Name","Terminal","Concourse/Gate","Name or Title","Contact No"]
[null,"Airlines"]
[]
[]
[]
[]
[]
[]
[]
[]
[]
[null,"Concessionaires","Terminal","Concourse/Gate","Name or Title","Contact No"]
[]
[]
[]
[]
[]
[]
[]
[]
[]
[]
[]
[]
[]
[]
[null,"List of all utilities and their contacts"]
[null,"Utility Name","Name of Contact","Contact No"]
[null,"Electricity"]
[]
[]
[]
[]
[]
[null,"Communication","Name of Contact","Contact No"]
[]
[]
[]
[]
[]
[null,"Water","Name of Contact","Contact No"]
[]
[]
[]
[]
[]
[null,"Sewer","Name of Contact","Contact No"]
[]
[]
[]
[]
[]
[]
[null,"Waste Management","Name of Contact","Contact No"]
[]
[]
[]
[null,"Portable Toilets","Name of Contact","Contact No"]
[]
[]
[]
[]
[]
[]
[]
[null,null,null,null,null," "]

{"sheet":"Plan Profile","index":2,"n_rows":36,"n_cols":14,"rows_kept":36,"cut":false,"hidden":false,"merged":[[34,2,34,6],[35,2,35,6],[25,8,25,9],[26,8,26,9],[27,8,27,9],[28,8,28,9],[29,8,29,9],[30,8,30,9],[31,8,31,9],[32,8,32,9],[33,8,33,9],[34,8,34,9],[35,8,35,9],[29,2,29,6],[30,2,30,6],[31,2,31,6],[32,2,32,6],[33,2,33,6],[1,1,2,11],[25,2,25,6],[26,2,26,6],[27,2,27,6],[28,2,28,6]]}
["Plan Profile",null,null,null,null,null,null,null,null,null,null,"Back"]
[null,"The Airport Terminal Incident Response Planning tool is an interactive decision support tool that will guide the user in the development of a plan for appropriate response to an incident or hazard affecting terminal operations."]
[]
[]
[null,"Choose the type of airport"]
[]
[]
[]
[]
[null,"Your results of hazard risk analysis"]
[null,"No","  Risk of Incidents",null,null,null,null,"Very likely","Likely","Somewhat Likely","Unlikely","Never",null," "]
[null,1,"Hurricane"]
[null,2,"Snow storm"]
[null,3,"Tornado"]
[null,4,"Earthquake"]
[null,5,"Structural Fire"]
[null,6,"Electrical Outage/Power Failure"]
[null,7,"Bomb Threat"]
[null,8,"Security Breach"]
[null,9,"Active Shooter"]
[]
[]
[]
[]
[null,"All documents that need to be referenced in the Terminal Incident Response Plan"]
[null,"No","Document Name",null,null,null,null,"Revision No","Date"]
[null,1]
[null,2]
[null,3]
[null,4]
[null,5]
[null,6]
[null,7]
[null,8]
[null,9]
[null,10]

{"sheet":"Shelter-In-Place","index":3,"n_rows":140,"n_cols":12,"rows_kept":140,"cut":false,"hidden":false,"merged":[[117,5,117,6],[119,5,119,6],[120,5,120,6],[121,5,121,6],[122,5,122,6],[123,5,123,6],[135,5,135,6],[139,5,139,6],[140,5,140,6],[124,5,124,6],[125,5,125,6],[129,5,129,6],[130,5,130,6],[131,5,131,6],[132,5,132,6],[133,5,133,6],[134,5,134,6],[118,5,118,6],[126,5,126,6],[127,5,127,6],[128,5,128,6],[123,1,123,3],[135,1,135,3],[114,1,114,3],[115,1,115,3],[116,1,116,3],[117,1,117,3],[119,1,119,3],[124,1,124,3],[125,1,125,3],[129,1,129,3],[133,1,133,3],[134,1,134,3],[120,1,120,3],[121,1,121,3],[122,1,122,3],[130,1,130,3],[131,1,131,3],[132,1,132,3],[118,1,118,3],[126,1,126,3],[127,1,127,3],[128,1,128,3],[109,5,109,6],[110,5,110,6],[111,5,111,6],[112,5,112,6],[113,5,113,6],[114,5,114,6],[115,5,115,6],[116,5,116,6],[99,5,99,6],[100,5,100,6],[101,5,101,6],[102,5,102,6],[103,5,103,6],[104,5,104,6],[105,5,105,6],[106,5,106,6],[107,5,107,6],[109,1,109,3],[113,1,113,3],[104,1,104,3],[105,1,105,3],[106,1,106,3],[107,1,107,3],[108,1,108,3],[92,4,92,5],[93,4,93,5],[100,1,100,3],[101,1,101,3],[110,1,110,3],[111,1,111,3],[112,1,112,3],[93,2,93,3],[94,2,94,3],[95,2,95,3],[94,4,94,5],[95,4,95,5],[103,1,103,3],[92,2,92,3],[99,1,99,3],[102,1,102,3],[108,5,108,6],[88,6,88,7],[89,2,89,3],[90,2,90,3],[91,2,91,3],[88,2,88,3],[88,4,88,5],[89,4,89,5],[90,4,90,5],[91,4,91,5],[89,6,89,7],[90,6,90,7],[91,6,91,7],[92,6,92,7],[93,6,93,7],[94,6,94,7],[95,6,95,7],[48,1,48,2],[49,1,49,2],[50,1,50,2],[51,1,51,2],[56,1,56,2],[64,3,64,4],[82,6,82,7],[81,6,81,7],[74,6,74,7],[75,6,75,7],[76,6,76,7],[87,1,87,7],[61,3,61,4],[62,3,62,4],[63,3,63,4],[65,3,65,4],[66,3,66,4],[67,3,67,4],[68,3,68,4],[69,3,69,4],[3,2,3,3],[4,2,4,3],[5,2,5,3],[27,5,27,6],[28,5,28,6],[29,5,29,6],[30,5,30,6],[44,1,44,2],[40,1,40,2],[41,1,41,2],[42,1,42,2],[43,1,43,2],[36,1,36,2],[37,1,37,2],[38,1,38,2],[39,1,39,2],[31,5,31,6],[33,5,33,6],[32,5,32,6],[17,5,17,6],[18,5,18,6],[19,5,19,6],[20,5,20,6],[21,5,21,6],[9,2,9,3],[10,2,10,3],[11,2,11,3],[12,2,12,3],[13,2,13,3],[6,2,6,3],[7,2,7,3],[8,2,8,3],[23,5,23,6],[24,5,24,6],[25,5,25,6],[26,5,26,6],[22,5,22,6],[55,1,55,2],[57,1,57,2],[52,1,52,2],[53,1,53,2],[54,1,54,2],[45,1,45,2],[46,1,46,2],[47,1,47,2],[70,3,70,4],[83,6,83,7],[84,6,84,7],[76,1,76,2],[77,1,77,2],[78,1,78,2],[79,1,79,2],[80,1,80,2],[74,1,74,2],[75,1,75,2],[77,6,77,7],[78,6,78,7],[79,6,79,7],[80,6,80,7],[81,1,81,2],[82,1,82,2],[83,1,83,2],[84,1,84,2],[136,1,136,3],[136,5,136,6],[137,1,137,3],[137,5,137,6],[138,1,138,3],[138,5,138,6],[142,1,142,3],[142,5,142,6],[141,1,141,3],[140,1,140,3],[139,1,139,3],[141,5,141,6],[148,1,148,3],[148,5,148,6],[143,1,143,3],[143,5,143,6],[144,1,144,3],[144,5,144,6],[145,1,145,3],[145,5,145,6],[146,1,146,3],[146,5,146,6],[147,1,147,3],[147,5,147,6]]}
[null,"Shelter-In-Place",null,null,null,null,null,null,null,null,null,"Back"]
[]
[null,"Select the documents that need to be referenced in the Terminal Incident Response Plan"]
[null,"No","Document Name",null,"Revision No","Date","Section No","Page No","Include"]
[null,{"$f":"'Plan Profile'!B27","v":1},{"$f":"IF('Plan Profile'!C27<>\"\",'Plan Profile'!C27,\"\")","v":""},null,{"$f":"IF('Plan Profile'!H27<>\"\",'Plan Profile'!H27,\"\")","v":""},{"$f":"IF('Plan Profile'!I27<>\"\",'Plan Profile'!I27,\"\")","v":""},null,null,"Select"]
[null,{"$f":"'Plan Profile'!B28","v":2},{"$f":"IF('Plan Profile'!C28<>\"\",'Plan Profile'!C28,\"\")","v":""},null,{"$f":"IF('Plan Profile'!H28<>\"\",'Plan Profile'!H28,\"\")","v":""},{"$f":"IF('Plan Profile'!I28<>\"\",'Plan Profile'!I28,\"\")","v":""},null,null,"Select"]
[null,{"$f":"'Plan Profile'!B29","v":3},{"$f":"IF('Plan Profile'!C29<>\"\",'Plan Profile'!C29,\"\")","v":""},null,{"$f":"IF('Plan Profile'!H29<>\"\",'Plan Profile'!H29,\"\")","v":""},{"$f":"IF('Plan Profile'!I29<>\"\",'Plan Profile'!I29,\"\")","v":""},null,null,"Select"]
[null,{"$f":"'Plan Profile'!B30","v":4},{"$f":"IF('Plan Profile'!C30<>\"\",'Plan Profile'!C30,\"\")","v":""},null,{"$f":"IF('Plan Profile'!H30<>\"\",'Plan Profile'!H30,\"\")","v":""},{"$f":"IF('Plan Profile'!I30<>\"\",'Plan Profile'!I30,\"\")","v":""},null,null,"Select"]
[null,{"$f":"'Plan Profile'!B31","v":5},{"$f":"IF('Plan Profile'!C31<>\"\",'Plan Profile'!C31,\"\")","v":""},null,{"$f":"IF('Plan Profile'!H31<>\"\",'Plan Profile'!H31,\"\")","v":""},{"$f":"IF('Plan Profile'!I31<>\"\",'Plan Profile'!I31,\"\")","v":""},null,null,"Select"]
[null,{"$f":"'Plan Profile'!B32","v":6},{"$f":"IF('Plan Profile'!C32<>\"\",'Plan Profile'!C32,\"\")","v":""},null,{"$f":"IF('Plan Profile'!H32<>\"\",'Plan Profile'!H32,\"\")","v":""},{"$f":"IF('Plan Profile'!I32<>\"\",'Plan Profile'!I32,\"\")","v":""},null,null,"Select"]
[null,{"$f":"'Plan Profile'!B33","v":7},{"$f":"IF('Plan Profile'!C33<>\"\",'Plan Profile'!C33,\"\")","v":""},null,{"$f":"IF('Plan Profile'!H33<>\"\",'Plan Profile'!H33,\"\")","v":""},{"$f":"IF('Plan Profile'!I33<>\"\",'Plan Profile'!I33,\"\")","v":""},null,null,"Select"]
[null,{"$f":"'Plan Profile'!B34","v":8},{"$f":"IF('Plan Profile'!C34<>\"\",'Plan Profile'!C34,\"\")","v":""},null,{"$f":"IF('Plan Profile'!H34<>\"\",'Plan Profile'!H34,\"\")","v":""},{"$f":"IF('Plan Profile'!I34<>\"\",'Plan Profile'!I34,\"\")","v":""},null,null,"Select"]
[null,{"$f":"'Plan Profile'!B35","v":9},{"$f":"IF('Plan Profile'!C35<>\"\",'Plan Profile'!C35,\"\")","v":""},null,{"$f":"IF('Plan Profile'!H35<>\"\",'Plan Profile'!H35,\"\")","v":""},{"$f":"IF('Plan Profile'!I35<>\"\",'Plan Profile'!I35,\"\")","v":""},null,null,"Select"]
[null,{"$f":"'Plan Profile'!B36","v":10},{"$f":"IF('Plan Profile'!C36<>\"\",'Plan Profile'!C36,\"\")","v":""},null,{"$f":"IF('Plan Profile'!H36<>\"\",'Plan Profile'!H36,\"\")","v":""},{"$f":"IF('Plan Profile'!I36<>\"\",'Plan Profile'!I36,\"\")","v":""},null,null,"Select"]
[]
[]
[null,"Emergency Shelter Locations (inside the terminal)"]
[null,"Location","Terminal","Concourse/Gate","Level","Description"]
[]
[]
[]
[]
[]
[]
[]
[]
[]
[]
[]
[]
[]
[]
[]
[]
[]
[]
[null,"Emergency Equipment",null,"Quantities","Location","Concourse"]
[]
[]
[]
[]
[]
[]
[]
[]
[]
[]
[]
[]
[]
[]
[]
[]
[]
[]
[]
[]
[]
[]
[]
[null,"Airlines that provide mutually agreed to Shelter-In-Place for passengers"]
[null,"Airlines","Terminal","Specific actions"]
[]
[]
[]
[]
[]
[]
[]
[]
[]
[]
[]
[null,"Consumable emergency supplies to be provided by the airport"]
[null,"Items",null,"Terminal","Concourse/Gate","Quantity","Refill Responsibility"]
[]
[]
[]
[]
[]
[]
[]
[]
[]
[]
[]
[]
[null,"Authorized Personnel to manage Shelter-In-Place or evacuation of the terminal"]
[null,"Terminal Area","Department/Tenant",null,"Title",null,"Contact"]
[]
[]
[]
[]
[]
[]
[]
[]
[]
[null,"Checklist for Shelter-In-Place"]
[null,"Airport Operations",null,null,"Responsible Party","Date and Time Completed"]
[]
[]
[]
[]
[]
[]
[]
[]
[]
[null,"Law Enforcement and Security",null,null,"Responsible Party","Date and Time Completed"]
[]
[]
[]
[]
[]
[]
[]
[]
[]
[null,"Fire and Emergency Medical Services",null,null,"Responsible Party","Date and Time Completed"]
[]
[]
[]
[]
[]
[]
[]
[]
[]
[null,"Building Facilities and Maintenance",null,null,"Responsible Party","Date and Time Completed"]
[]
[]
[]
[]
[]
[]
[]
[]
[]
[null,"Airlines and other tenants",null,null,"Responsible Party","Date and Time Completed"]

{"sheet":"Evacuation","index":4,"n_rows":67,"n_cols":10,"rows_kept":67,"cut":false,"hidden":false,"merged":[[57,1,57,3],[58,1,58,3],[59,1,59,3],[67,1,67,3],[71,5,71,6],[61,5,61,6],[62,5,62,6],[63,5,63,6],[64,5,64,6],[66,5,66,6],[70,1,70,3],[71,1,71,3],[65,1,65,3],[65,5,65,6],[72,5,72,6],[76,5,76,6],[67,5,67,6],[68,5,68,6],[69,5,69,6],[70,5,70,6],[73,5,73,6],[74,5,74,6],[75,5,75,6],[56,5,56,6],[57,5,57,6],[58,5,58,6],[59,5,59,6],[60,5,60,6],[51,5,51,6],[52,5,52,6],[53,5,53,6],[54,5,54,6],[55,5,55,6],[46,5,46,6],[47,5,47,6],[48,5,48,6],[49,5,49,6],[50,5,50,6],[72,1,72,3],[76,1,76,3],[66,1,66,3],[68,1,68,3],[69,1,69,3],[73,1,73,3],[74,1,74,3],[75,1,75,3],[46,1,46,3],[61,1,61,3],[62,1,62,3],[63,1,63,3],[64,1,64,3],[51,1,51,3],[52,1,52,3],[53,1,53,3],[54,1,54,3],[55,1,55,3],[56,1,56,3],[60,1,60,3],[50,1,50,3],[49,1,49,3],[48,1,48,3],[47,1,47,3],[3,2,3,3],[4,2,4,3],[5,2,5,3],[6,2,6,3],[7,2,7,3],[12,2,12,3],[9,2,9,3],[10,2,10,3],[11,2,11,3],[8,2,8,3]]}
[null,"Evacuation",null,null,null,null,null,null,null,"Back"]
[]
[null,"Select the documents that need to be referenced in the Terminal Incident Response Plan"]
[null,"No","Document Name",null,"Revision No","Date","Section No","Page No","Include"]
[null,{"$f":"'Plan Profile'!B27","v":1},{"$f":"IF('Plan Profile'!C27<>\"\",'Plan Profile'!C27,\"\")","v":""},null,{"$f":"IF('Plan Profile'!H27<>\"\",'Plan Profile'!H27,\"\")","v":""},{"$f":"IF('Plan Profile'!I27<>\"\",'Plan Profile'!I27,\"\")","v":""},null,null,"Select"]
[null,{"$f":"'Plan Profile'!B28","v":2},{"$f":"IF('Plan Profile'!C28<>\"\",'Plan Profile'!C28,\"\")","v":""},null,{"$f":"IF('Plan Profile'!H28<>\"\",'Plan Profile'!H28,\"\")","v":""},{"$f":"IF('Plan Profile'!I28<>\"\",'Plan Profile'!I28,\"\")","v":""},null,null,"Select"]
[null,{"$f":"'Plan Profile'!B29","v":3},{"$f":"IF('Plan Profile'!C29<>\"\",'Plan Profile'!C29,\"\")","v":""},null,{"$f":"IF('Plan Profile'!H29<>\"\",'Plan Profile'!H29,\"\")","v":""},{"$f":"IF('Plan Profile'!I29<>\"\",'Plan Profile'!I29,\"\")","v":""},null,null,"Select"]
[null,{"$f":"'Plan Profile'!B30","v":4},{"$f":"IF('Plan Profile'!C30<>\"\",'Plan Profile'!C30,\"\")","v":""},null,{"$f":"IF('Plan Profile'!H30<>\"\",'Plan Profile'!H30,\"\")","v":""},{"$f":"IF('Plan Profile'!I30<>\"\",'Plan Profile'!I30,\"\")","v":""},null,null,"Select"]
[null,{"$f":"'Plan Profile'!B31","v":5},{"$f":"IF('Plan Profile'!C31<>\"\",'Plan Profile'!C31,\"\")","v":""},null,{"$f":"IF('Plan Profile'!H31<>\"\",'Plan Profile'!H31,\"\")","v":""},{"$f":"IF('Plan Profile'!I31<>\"\",'Plan Profile'!I31,\"\")","v":""},null,null,"Select"]
[null,{"$f":"'Plan Profile'!B32","v":6},{"$f":"IF('Plan Profile'!C32<>\"\",'Plan Profile'!C32,\"\")","v":""},null,{"$f":"IF('Plan Profile'!H32<>\"\",'Plan Profile'!H32,\"\")","v":""},{"$f":"IF('Plan Profile'!I32<>\"\",'Plan Profile'!I32,\"\")","v":""},null,null,"Select"]
[null,{"$f":"'Plan Profile'!B33","v":7},{"$f":"IF('Plan Profile'!C33<>\"\",'Plan Profile'!C33,\"\")","v":""},null,{"$f":"IF('Plan Profile'!H33<>\"\",'Plan Profile'!H33,\"\")","v":""},{"$f":"IF('Plan Profile'!I33<>\"\",'Plan Profile'!I33,\"\")","v":""},null,null,"Select"]
[null,{"$f":"'Plan Profile'!B34","v":8},{"$f":"IF('Plan Profile'!C34<>\"\",'Plan Profile'!C34,\"\")","v":""},null,{"$f":"IF('Plan Profile'!H34<>\"\",'Plan Profile'!H34,\"\")","v":""},{"$f":"IF('Plan Profile'!I34<>\"\",'Plan Profile'!I34,\"\")","v":""},null,null,"Select"]
[null,{"$f":"'Plan Profile'!B35","v":9},{"$f":"IF('Plan Profile'!C35<>\"\",'Plan Profile'!C35,\"\")","v":""},null,{"$f":"IF('Plan Profile'!H35<>\"\",'Plan Profile'!H35,\"\")","v":""},{"$f":"IF('Plan Profile'!I35<>\"\",'Plan Profile'!I35,\"\")","v":""},null,null,"Select"]
[null,{"$f":"'Plan Profile'!B36","v":10},{"$f":"IF('Plan Profile'!C36<>\"\",'Plan Profile'!C36,\"\")","v":""},null,{"$f":"IF('Plan Profile'!H36<>\"\",'Plan Profile'!H36,\"\")","v":""},{"$f":"IF('Plan Profile'!I36<>\"\",'Plan Profile'!I36,\"\")","v":""},null,null,"Select"]
[]
[]
[null,"Primary Buildings - Assembly Points"]
[null,"No","Building","Assembly Point/Safety Zone","Notes"]
[]
[]
[]
[]
[]
[]
[]
[]
[]
[]
[]
[]
[]
[]
[]
[null,"1) Is evacuation to the AOA permitted in case of emergencies"]
[]
[null,"International Arrivals"]
[]
[null,"CBP Assembly Points"]
[null,"No","Building","Assembly Point/Safety Zone","Notes"]
[]
[]
[]
[null,null,null,null,null,null,null,null,null," "]
[]
[]
[null,"Checklist for Evacuation"]
[null,"Airport Operations",null,null,"Responsible Party","Date and Time Completed"]
[]
[]
[]
[]
[]
[]
[]
[]
[]
[null,"Law Enforcement and Security",null,null,"Responsible Party","Date and Time Completed"]
[]
[]
[]
[]
[]
[]
[]
[]
[]
[null,"Fire and Emergency Medical Services",null,null,"Responsible Party","Date and Time Completed"]

{"sheet":"Repopulation","index":5,"n_rows":57,"n_cols":13,"rows_kept":57,"cut":false,"hidden":false,"merged":[[41,5,41,6],[42,5,42,6],[43,5,43,6],[44,5,44,6],[47,5,47,6],[26,5,26,6],[36,5,36,6],[46,5,46,6],[27,5,27,6],[28,5,28,6],[29,5,29,6],[30,5,30,6],[31,5,31,6],[32,5,32,6],[33,5,33,6],[34,5,34,6],[35,5,35,6],[37,5,37,6],[38,5,38,6],[39,5,39,6],[40,5,40,6],[26,1,26,3],[36,1,36,3],[31,1,31,3],[32,1,32,3],[33,1,33,3],[34,1,34,3],[35,1,35,3],[27,1,27,3],[28,1,28,3],[29,1,29,3],[30,1,30,3],[22,2,22,4],[12,2,12,3],[13,2,13,3],[17,2,17,4],[18,2,18,4],[19,2,19,4],[20,2,20,4],[8,2,8,3],[9,2,9,3],[10,2,10,3],[11,2,11,3],[21,2,21,4],[3,2,3,3],[4,2,4,3],[5,2,5,3],[6,2,6,3],[7,2,7,3],[23,2,23,4],[37,1,37,3],[49,1,49,3],[57,1,57,3],[58,1,58,3],[38,1,38,3],[39,1,39,3],[40,1,40,3],[47,1,47,3],[48,1,48,3],[41,1,41,3],[42,1,42,3],[43,1,43,3],[44,1,44,3],[46,1,46,3],[56,1,56,3],[45,1,45,3],[45,5,45,6],[52,1,52,3],[52,5,52,6],[53,1,53,3],[53,5,53,6],[50,1,50,3],[51,1,51,3],[48,5,48,6],[49,5,49,6],[50,5,50,6],[51,5,51,6],[54,1,54,3],[54,5,54,6],[55,1,55,3],[55,5,55,6],[61,1,61,3],[61,5,61,6],[59,1,59,3],[60,1,60,3],[57,5,57,6],[60,5,60,6],[56,5,56,6],[58,5,58,6],[59,5,59,6],[65,1,65,3],[65,5,65,6],[62,1,62,3],[62,5,62,6],[63,1,63,3],[63,5,63,6],[64,1,64,3],[64,5,64,6]]}
[null,"Repopulation Options",null,null,null,null,null,null,null,"Back"]
[]
[null,"Select the documents that need to be referenced in the Terminal Incident Response Plan"]
[null,"No","Document Name",null,"Revision No","Date","Section No","Page No","Include"]
[null,{"$f":"'Plan Profile'!B27","v":1},{"$f":"IF('Plan Profile'!C27<>\"\",'Plan Profile'!C27,\"\")","v":""},null,{"$f":"IF('Plan Profile'!H27<>\"\",'Plan Profile'!H27,\"\")","v":""},{"$f":"IF('Plan Profile'!I27<>\"\",'Plan Profile'!I27,\"\")","v":""},null,null,"Select"]
[null,{"$f":"'Plan Profile'!B28","v":2},{"$f":"IF('Plan Profile'!C28<>\"\",'Plan Profile'!C28,\"\")","v":""},null,{"$f":"IF('Plan Profile'!H28<>\"\",'Plan Profile'!H28,\"\")","v":""},{"$f":"IF('Plan Profile'!I28<>\"\",'Plan Profile'!I28,\"\")","v":""},null,null,"Select"]
[null,{"$f":"'Plan Profile'!B29","v":3},{"$f":"IF('Plan Profile'!C29<>\"\",'Plan Profile'!C29,\"\")","v":""},null,{"$f":"IF('Plan Profile'!H29<>\"\",'Plan Profile'!H29,\"\")","v":""},{"$f":"IF('Plan Profile'!I29<>\"\",'Plan Profile'!I29,\"\")","v":""},null,null,"Select"]
[null,{"$f":"'Plan Profile'!B30","v":4},{"$f":"IF('Plan Profile'!C30<>\"\",'Plan Profile'!C30,\"\")","v":""},null,{"$f":"IF('Plan Profile'!H30<>\"\",'Plan Profile'!H30,\"\")","v":""},{"$f":"IF('Plan Profile'!I30<>\"\",'Plan Profile'!I30,\"\")","v":""},null,null,"Select"]
[null,{"$f":"'Plan Profile'!B31","v":5},{"$f":"IF('Plan Profile'!C31<>\"\",'Plan Profile'!C31,\"\")","v":""},null,{"$f":"IF('Plan Profile'!H31<>\"\",'Plan Profile'!H31,\"\")","v":""},{"$f":"IF('Plan Profile'!I31<>\"\",'Plan Profile'!I31,\"\")","v":""},null,null,"Select"]
[null,{"$f":"'Plan Profile'!B32","v":6},{"$f":"IF('Plan Profile'!C32<>\"\",'Plan Profile'!C32,\"\")","v":""},null,{"$f":"IF('Plan Profile'!H32<>\"\",'Plan Profile'!H32,\"\")","v":""},{"$f":"IF('Plan Profile'!I32<>\"\",'Plan Profile'!I32,\"\")","v":""},null,null,"Select"]
[null,{"$f":"'Plan Profile'!B33","v":7},{"$f":"IF('Plan Profile'!C33<>\"\",'Plan Profile'!C33,\"\")","v":""},null,{"$f":"IF('Plan Profile'!H33<>\"\",'Plan Profile'!H33,\"\")","v":""},{"$f":"IF('Plan Profile'!I33<>\"\",'Plan Profile'!I33,\"\")","v":""},null,null,"Select"]
[null,{"$f":"'Plan Profile'!B34","v":8},{"$f":"IF('Plan Profile'!C34<>\"\",'Plan Profile'!C34,\"\")","v":""},null,{"$f":"IF('Plan Profile'!H34<>\"\",'Plan Profile'!H34,\"\")","v":""},{"$f":"IF('Plan Profile'!I34<>\"\",'Plan Profile'!I34,\"\")","v":""},null,null,"Select"]
[null,{"$f":"'Plan Profile'!B35","v":9},{"$f":"IF('Plan Profile'!C35<>\"\",'Plan Profile'!C35,\"\")","v":""},null,{"$f":"IF('Plan Profile'!H35<>\"\",'Plan Profile'!H35,\"\")","v":""},{"$f":"IF('Plan Profile'!I35<>\"\",'Plan Profile'!I35,\"\")","v":""},null,null,"Select"]
[null,{"$f":"'Plan Profile'!B36","v":10},{"$f":"IF('Plan Profile'!C36<>\"\",'Plan Profile'!C36,\"\")","v":""},null,{"$f":"IF('Plan Profile'!H36<>\"\",'Plan Profile'!H36,\"\")","v":""},{"$f":"IF('Plan Profile'!I36<>\"\",'Plan Profile'!I36,\"\")","v":""},null,null,"Select"]
[]
[]
[null,"Priority of airport populace reentering the terminal"]
[null,"No"," Who"]
[]
[]
[]
[]
[]
[]
[]
[null,"Checklist for Repopulation",null,null,null,null,null,null,null,null,null,null," "]
[null,"Airport Operations",null,null,"Responsible Party","Date and Time Completed"]
[]
[]
[]
[]
[]
[]
[]
[]
[]
[null,"Law Enforcement and Security",null,null,"Responsible Party","Date and Time Completed"]
[]
[]
[]
[]
[]
[]
[]
[]
[]
[null,"Airlines and Other Tenants",null,null,"Responsible Party","Date and Time Completed"]
[]
[]
[]
[]
[]
[]
[]
[]
[]
[null,"Customs and Border Protection",null,null,"Responsible Party","Date and Time Completed"]

{"sheet":"Hurricane","index":6,"n_rows":62,"n_cols":13,"rows_kept":62,"cut":false,"hidden":false,"merged":[[24,1,24,5],[23,1,23,5],[66,5,66,6],[67,5,67,6],[68,5,68,6],[56,5,56,6],[57,5,57,6],[58,5,58,6],[59,5,59,6],[60,5,60,6],[65,1,65,3],[66,1,66,3],[67,1,67,3],[68,1,68,3],[55,1,55,3],[56,1,56,3],[69,5,69,6],[70,5,70,6],[61,5,61,6],[62,5,62,6],[63,5,63,6],[64,5,64,6],[65,5,65,6],[70,1,70,3],[41,5,41,6],[42,5,42,6],[43,5,43,6],[44,5,44,6],[45,5,45,6],[46,5,46,6],[47,5,47,6],[48,5,48,6],[49,5,49,6],[50,5,50,6],[51,5,51,6],[52,5,52,6],[53,5,53,6],[54,5,54,6],[55,5,55,6],[69,1,69,3],[60,1,60,3],[61,1,61,3],[62,1,62,3],[63,1,63,3],[64,1,64,3],[57,1,57,3],[58,1,58,3],[59,1,59,3],[50,1,50,3],[51,1,51,3],[52,1,52,3],[53,1,53,3],[54,1,54,3],[45,1,45,3],[46,1,46,3],[47,1,47,3],[48,1,48,3],[49,1,49,3],[27,2,27,3],[41,1,41,3],[42,1,42,3],[43,1,43,3],[44,1,44,3],[29,2,29,3],[30,2,30,3],[31,2,31,3],[35,2,35,3],[33,2,33,3],[34,2,34,3],[36,2,36,3],[37,2,37,3],[38,2,38,3],[17,2,17,3],[18,2,18,3],[19,2,19,3],[9,2,9,3],[10,2,10,3],[11,2,11,3],[12,2,12,3],[13,2,13,3],[2,1,5,1],[2,2,5,12],[14,2,14,3],[15,2,15,3],[16,2,16,3],[38,4,38,5],[32,2,32,3],[28,2,28,3],[33,4,33,5],[34,4,34,5],[35,4,35,5],[36,4,36,5],[37,4,37,5],[28,4,28,5],[29,4,29,5],[30,4,30,5],[31,4,31,5],[32,4,32,5]]}
[null,"Hurricane",null,null,null,null,null,null,null,null,null,null,"Back"]
[]
[null,"Definition:","A tropical cyclone in which the maximum sustained surface wind (using the U.S. 1-minute average) is 64 kt (74 mph or 119 km/hr) or more. Because hurricane preparedness activities become difficult once winds reach tropical storm force, the hurricane warning is issued 36 hours in advance of the anticipated onset of tropical-storm-force winds. (Source: http://www.nhc.noaa.gov/aboutgloss.shtml#h, retrieved on Jan 9, 2013)"]
[]
[]
[]
[]
[]
[null,"Select the documents that need to be referenced in the Terminal Incident Response Plan"]
[null,"No","Document Name",null,"Revision No","Date","Section No","Page No","Include"]
[null,{"$f":"'Plan Profile'!B27","v":1},{"$f":"IF('Plan Profile'!C27<>\"\",'Plan Profile'!C27,\"\")","v":""},null,{"$f":"IF('Plan Profile'!H27<>\"\",'Plan Profile'!H27,\"\")","v":""},{"$f":"IF('Plan Profile'!I27<>\"\",'Plan Profile'!I27,\"\")","v":""},null,null,"Select"]
[null,{"$f":"'Plan Profile'!B28","v":2},{"$f":"IF('Plan Profile'!C28<>\"\",'Plan Profile'!C28,\"\")","v":""},null,{"$f":"IF('Plan Profile'!H28<>\"\",'Plan Profile'!H28,\"\")","v":""},{"$f":"IF('Plan Profile'!I28<>\"\",'Plan Profile'!I28,\"\")","v":""},null,null,"Select"]
[null,{"$f":"'Plan Profile'!B29","v":3},{"$f":"IF('Plan Profile'!C29<>\"\",'Plan Profile'!C29,\"\")","v":""},null,{"$f":"IF('Plan Profile'!H29<>\"\",'Plan Profile'!H29,\"\")","v":""},{"$f":"IF('Plan Profile'!I29<>\"\",'Plan Profile'!I29,\"\")","v":""},null,null,"Select"]
[null,{"$f":"'Plan Profile'!B30","v":4},{"$f":"IF('Plan Profile'!C30<>\"\",'Plan Profile'!C30,\"\")","v":""},null,{"$f":"IF('Plan Profile'!H30<>\"\",'Plan Profile'!H30,\"\")","v":""},{"$f":"IF('Plan Profile'!I30<>\"\",'Plan Profile'!I30,\"\")","v":""},null,null,"Select"]
[null,{"$f":"'Plan Profile'!B31","v":5},{"$f":"IF('Plan Profile'!C31<>\"\",'Plan Profile'!C31,\"\")","v":""},null,{"$f":"IF('Plan Profile'!H31<>\"\",'Plan Profile'!H31,\"\")","v":""},{"$f":"IF('Plan Profile'!I31<>\"\",'Plan Profile'!I31,\"\")","v":""},null,null,"Select"]
[null,{"$f":"'Plan Profile'!B32","v":6},{"$f":"IF('Plan Profile'!C32<>\"\",'Plan Profile'!C32,\"\")","v":""},null,{"$f":"IF('Plan Profile'!H32<>\"\",'Plan Profile'!H32,\"\")","v":""},{"$f":"IF('Plan Profile'!I32<>\"\",'Plan Profile'!I32,\"\")","v":""},null,null,"Select"]
[null,{"$f":"'Plan Profile'!B33","v":7},{"$f":"IF('Plan Profile'!C33<>\"\",'Plan Profile'!C33,\"\")","v":""},null,{"$f":"IF('Plan Profile'!H33<>\"\",'Plan Profile'!H33,\"\")","v":""},{"$f":"IF('Plan Profile'!I33<>\"\",'Plan Profile'!I33,\"\")","v":""},null,null,"Select"]
[null,{"$f":"'Plan Profile'!B34","v":8},{"$f":"IF('Plan Profile'!C34<>\"\",'Plan Profile'!C34,\"\")","v":""},null,{"$f":"IF('Plan Profile'!H34<>\"\",'Plan Profile'!H34,\"\")","v":""},{"$f":"IF('Plan Profile'!I34<>\"\",'Plan Profile'!I34,\"\")","v":""},null,null,"Select"]
[null,{"$f":"'Plan Profile'!B35","v":9},{"$f":"IF('Plan Profile'!C35<>\"\",'Plan Profile'!C35,\"\")","v":""},null,{"$f":"IF('Plan Profile'!H35<>\"\",'Plan Profile'!H35,\"\")","v":""},{"$f":"IF('Plan Profile'!I35<>\"\",'Plan Profile'!I35,\"\")","v":""},null,null,"Select"]
[null,{"$f":"'Plan Profile'!B36","v":10},{"$f":"IF('Plan Profile'!C36<>\"\",'Plan Profile'!C36,\"\")","v":""},null,{"$f":"IF('Plan Profile'!H36<>\"\",'Plan Profile'!H36,\"\")","v":""},{"$f":"IF('Plan Profile'!I36<>\"\",'Plan Profile'!I36,\"\")","v":""},null,null,"Select"]
[]
[]
[null,"Risk of Flood"]
[null,"Does the airport have a high risk of flood during a hurricane or other natural hazard?"]
[null,"What is the source of water near the airport?"]
[]
[null,"High risk areas in the terminal (for flood)"]
[null,"No","Location",null,"Flood Level Alert"]
[]
[]
[]
[]
[]
[]
[]
[]
[]
[]
[]
[]
[null,"Checklist for Hurricane"]
[null,"Airport Operations",null,null,"Responsible Party","Date and Time Completed"]
[]
[]
[]
[]
[]
[]
[]
[]
[]
[null,"Law Enforcement and Security",null,null,"Responsible Party","Date and Time Completed"]
[]
[]
[]
[]
[]
[]
[]
[]
[]
[null,"Fire and Emergency Medical Services",null,null,"Responsible Party","Date and Time Completed"]

{"sheet":"Snow Storm","index":7,"n_rows":54,"n_cols":13,"rows_kept":54,"cut":false,"hidden":false,"merged":[[24,2,24,4],[25,2,25,4],[61,5,61,6],[62,5,62,6],[56,5,56,6],[57,5,57,6],[58,5,58,6],[59,5,59,6],[60,5,60,6],[52,5,52,6],[53,5,53,6],[54,5,54,6],[55,5,55,6],[47,5,47,6],[48,5,48,6],[49,5,49,6],[50,5,50,6],[51,5,51,6],[43,5,43,6],[44,5,44,6],[45,5,45,6],[46,5,46,6],[38,5,38,6],[39,5,39,6],[40,5,40,6],[41,5,41,6],[42,5,42,6],[33,5,33,6],[34,5,34,6],[35,5,35,6],[36,5,36,6],[37,5,37,6],[58,1,58,3],[59,1,59,3],[60,1,60,3],[61,1,61,3],[62,1,62,3],[53,1,53,3],[54,1,54,3],[55,1,55,3],[56,1,56,3],[57,1,57,3],[48,1,48,3],[49,1,49,3],[50,1,50,3],[51,1,51,3],[52,1,52,3],[43,1,43,3],[44,1,44,3],[45,1,45,3],[46,1,46,3],[47,1,47,3],[38,1,38,3],[39,1,39,3],[40,1,40,3],[41,1,41,3],[42,1,42,3],[33,1,33,3],[34,1,34,3],[35,1,35,3],[36,1,36,3],[37,1,37,3],[2,2,5,12],[2,1,5,1],[23,2,23,4],[23,6,23,7],[24,6,24,7],[14,2,14,3],[15,2,15,3],[16,2,16,3],[17,2,17,3],[18,2,18,3],[19,2,19,3],[9,2,9,3],[10,2,10,3],[11,2,11,3],[12,2,12,3],[13,2,13,3],[25,6,25,7],[29,2,29,4],[29,6,29,7],[26,2,26,4],[26,6,26,7],[27,2,27,4],[27,6,27,7],[28,2,28,4],[28,6,28,7]]}
[null,"Snow Storm",null,null,null,null,null,null,null,null,null,null,"Back"]
[]
[null,"Definition:","NWS defines Winter Storm Warning for Heavy Snow as \"Seven inches or more of snow will fall within a 24 hour period\". NWS also provides other relevant winter warnings. (Source: http://www.wbuf.noaa.gov/wint97ny.htm, retrieved on Jan 9, 2013)"]
[]
[]
[]
[]
[]
[null,"Select the documents that need to be referenced in the Terminal Incident Response Plan"]
[null,"No","Document Name",null,"Revision No","Date","Section No","Page No","Include"]
[null,{"$f":"'Plan Profile'!B27","v":1},{"$f":"IF('Plan Profile'!C27<>\"\",'Plan Profile'!C27,\"\")","v":""},null,{"$f":"IF('Plan Profile'!H27<>\"\",'Plan Profile'!H27,\"\")","v":""},{"$f":"IF('Plan Profile'!I27<>\"\",'Plan Profile'!I27,\"\")","v":""},null,null,"Select"]
[null,{"$f":"'Plan Profile'!B28","v":2},{"$f":"IF('Plan Profile'!C28<>\"\",'Plan Profile'!C28,\"\")","v":""},null,{"$f":"IF('Plan Profile'!H28<>\"\",'Plan Profile'!H28,\"\")","v":""},{"$f":"IF('Plan Profile'!I28<>\"\",'Plan Profile'!I28,\"\")","v":""},null,null,"Select"]
[null,{"$f":"'Plan Profile'!B29","v":3},{"$f":"IF('Plan Profile'!C29<>\"\",'Plan Profile'!C29,\"\")","v":""},null,{"$f":"IF('Plan Profile'!H29<>\"\",'Plan Profile'!H29,\"\")","v":""},{"$f":"IF('Plan Profile'!I29<>\"\",'Plan Profile'!I29,\"\")","v":""},null,null,"Select"]
[null,{"$f":"'Plan Profile'!B30","v":4},{"$f":"IF('Plan Profile'!C30<>\"\",'Plan Profile'!C30,\"\")","v":""},null,{"$f":"IF('Plan Profile'!H30<>\"\",'Plan Profile'!H30,\"\")","v":""},{"$f":"IF('Plan Profile'!I30<>\"\",'Plan Profile'!I30,\"\")","v":""},null,null,"Select"]
[null,{"$f":"'Plan Profile'!B31","v":5},{"$f":"IF('Plan Profile'!C31<>\"\",'Plan Profile'!C31,\"\")","v":""},null,{"$f":"IF('Plan Profile'!H31<>\"\",'Plan Profile'!H31,\"\")","v":""},{"$f":"IF('Plan Profile'!I31<>\"\",'Plan Profile'!I31,\"\")","v":""},null,null,"Select"]
[null,{"$f":"'Plan Profile'!B32","v":6},{"$f":"IF('Plan Profile'!C32<>\"\",'Plan Profile'!C32,\"\")","v":""},null,{"$f":"IF('Plan Profile'!H32<>\"\",'Plan Profile'!H32,\"\")","v":""},{"$f":"IF('Plan Profile'!I32<>\"\",'Plan Profile'!I32,\"\")","v":""},null,null,"Select"]
[null,{"$f":"'Plan Profile'!B33","v":7},{"$f":"IF('Plan Profile'!C33<>\"\",'Plan Profile'!C33,\"\")","v":""},null,{"$f":"IF('Plan Profile'!H33<>\"\",'Plan Profile'!H33,\"\")","v":""},{"$f":"IF('Plan Profile'!I33<>\"\",'Plan Profile'!I33,\"\")","v":""},null,null,"Select"]
[null,{"$f":"'Plan Profile'!B34","v":8},{"$f":"IF('Plan Profile'!C34<>\"\",'Plan Profile'!C34,\"\")","v":""},null,{"$f":"IF('Plan Profile'!H34<>\"\",'Plan Profile'!H34,\"\")","v":""},{"$f":"IF('Plan Profile'!I34<>\"\",'Plan Profile'!I34,\"\")","v":""},null,null,"Select"]
[null,{"$f":"'Plan Profile'!B35","v":9},{"$f":"IF('Plan Profile'!C35<>\"\",'Plan Profile'!C35,\"\")","v":""},null,{"$f":"IF('Plan Profile'!H35<>\"\",'Plan Profile'!H35,\"\")","v":""},{"$f":"IF('Plan Profile'!I35<>\"\",'Plan Profile'!I35,\"\")","v":""},null,null,"Select"]
[null,{"$f":"'Plan Profile'!B36","v":10},{"$f":"IF('Plan Profile'!C36<>\"\",'Plan Profile'!C36,\"\")","v":""},null,{"$f":"IF('Plan Profile'!H36<>\"\",'Plan Profile'!H36,\"\")","v":""},{"$f":"IF('Plan Profile'!I36<>\"\",'Plan Profile'!I36,\"\")","v":""},null,null,"Select"]
[]
[]
[null,"Emergency equipment that can be used during snow storms"]
[null,"Equipment","Description",null,null,"No of units","Owned by"]
[]
[]
[]
[]
[]
[]
[]
[]
[null,"Checklist for Snow Storm"]
[null,"Airport Operations",null,null,"Responsible Party","  Date and Time Completed"]
[]
[]
[]
[]
[]
[]
[]
[]
[]
[null,"Law Enforcement and Security",null,null,"Responsible Party","Date and Time Completed"]
[]
[]
[]
[]
[]
[]
[]
[]
[]
[null,"Fire and Emergency Medical Services",null,null,"Responsible Party","Date and Time Completed"]

{"sheet":"Earthquake","index":8,"n_rows":62,"n_cols":13,"rows_kept":62,"cut":false,"hidden":false,"merged":[[53,5,53,6],[54,5,54,6],[69,5,69,6],[70,5,70,6],[64,5,64,6],[65,5,65,6],[66,5,66,6],[67,5,67,6],[68,5,68,6],[60,5,60,6],[61,5,61,6],[62,5,62,6],[63,5,63,6],[55,5,55,6],[56,5,56,6],[70,1,70,3],[41,5,41,6],[42,5,42,6],[43,5,43,6],[44,5,44,6],[45,5,45,6],[46,5,46,6],[47,5,47,6],[48,5,48,6],[49,5,49,6],[50,5,50,6],[57,5,57,6],[58,5,58,6],[59,5,59,6],[51,5,51,6],[52,5,52,6],[65,1,65,3],[66,1,66,3],[67,1,67,3],[68,1,68,3],[69,1,69,3],[60,1,60,3],[61,1,61,3],[62,1,62,3],[63,1,63,3],[64,1,64,3],[55,1,55,3],[56,1,56,3],[57,1,57,3],[58,1,58,3],[59,1,59,3],[49,1,49,3],[50,1,50,3],[51,1,51,3],[52,1,52,3],[54,1,54,3],[53,1,53,3],[41,1,41,3],[45,1,45,3],[46,1,46,3],[47,1,47,3],[48,1,48,3],[42,1,42,3],[43,1,43,3],[44,1,44,3],[33,2,33,3],[34,2,34,3],[35,2,35,3],[36,2,36,3],[37,2,37,3],[2,2,2,12],[38,2,38,3],[28,4,28,5],[29,4,29,5],[30,4,30,5],[31,4,31,5],[32,4,32,5],[33,4,33,5],[34,4,34,5],[35,4,35,5],[36,4,36,5],[37,4,37,5],[38,4,38,5],[12,2,12,3],[13,2,13,3],[14,2,14,3],[29,2,29,3],[30,2,30,3],[31,2,31,3],[32,2,32,3],[9,2,9,3],[10,2,10,3],[11,2,11,3],[15,2,15,3],[16,2,16,3],[17,2,17,3],[18,2,18,3],[19,2,19,3],[27,2,27,3],[28,2,28,3],[23,1,23,5],[24,1,24,5]]}
[null,"Earthquake",null,null,null,null,null,null,null,null,null,null,"Back"]
[]
[null,"Definition:","A sudden slipping or movement of a portion of the earth’s crust. Epicenter is the place on the earth's surface directly above the point on the fault where the earthquake began. Aftershocks are the earthquakes of similar or lesser intensity that follows the main earthquake. Magnitude is the above of energy released during an earthquake. (Source: http://www.seco.noaa.gov/Safety/Newsletters/NWS/NWSJul06a.pdf, retrieved on Jan 9, 2013)"]
[]
[]
[]
[]
[]
[null,"Select the documents that need to be referenced in the Terminal Incident Response Plan"]
[null,"No","Document Name",null,"Revision No","Date","Section No","Page No","Include"]
[null,{"$f":"'Plan Profile'!B27","v":1},{"$f":"IF('Plan Profile'!C27<>\"\",'Plan Profile'!C27,\"\")","v":""},null,{"$f":"IF('Plan Profile'!H27<>\"\",'Plan Profile'!H27,\"\")","v":""},{"$f":"IF('Plan Profile'!I27<>\"\",'Plan Profile'!I27,\"\")","v":""},null,null,"Select"]
[null,{"$f":"'Plan Profile'!B28","v":2},{"$f":"IF('Plan Profile'!C28<>\"\",'Plan Profile'!C28,\"\")","v":""},null,{"$f":"IF('Plan Profile'!H28<>\"\",'Plan Profile'!H28,\"\")","v":""},{"$f":"IF('Plan Profile'!I28<>\"\",'Plan Profile'!I28,\"\")","v":""},null,null,"Select"]
[null,{"$f":"'Plan Profile'!B29","v":3},{"$f":"IF('Plan Profile'!C29<>\"\",'Plan Profile'!C29,\"\")","v":""},null,{"$f":"IF('Plan Profile'!H29<>\"\",'Plan Profile'!H29,\"\")","v":""},{"$f":"IF('Plan Profile'!I29<>\"\",'Plan Profile'!I29,\"\")","v":""},null,null,"Select"]
[null,{"$f":"'Plan Profile'!B30","v":4},{"$f":"IF('Plan Profile'!C30<>\"\",'Plan Profile'!C30,\"\")","v":""},null,{"$f":"IF('Plan Profile'!H30<>\"\",'Plan Profile'!H30,\"\")","v":""},{"$f":"IF('Plan Profile'!I30<>\"\",'Plan Profile'!I30,\"\")","v":""},null,null,"Select"]
[null,{"$f":"'Plan Profile'!B31","v":5},{"$f":"IF('Plan Profile'!C31<>\"\",'Plan Profile'!C31,\"\")","v":""},null,{"$f":"IF('Plan Profile'!H31<>\"\",'Plan Profile'!H31,\"\")","v":""},{"$f":"IF('Plan Profile'!I31<>\"\",'Plan Profile'!I31,\"\")","v":""},null,null,"Select"]
[null,{"$f":"'Plan Profile'!B32","v":6},{"$f":"IF('Plan Profile'!C32<>\"\",'Plan Profile'!C32,\"\")","v":""},null,{"$f":"IF('Plan Profile'!H32<>\"\",'Plan Profile'!H32,\"\")","v":""},{"$f":"IF('Plan Profile'!I32<>\"\",'Plan Profile'!I32,\"\")","v":""},null,null,"Select"]
[null,{"$f":"'Plan Profile'!B33","v":7},{"$f":"IF('Plan Profile'!C33<>\"\",'Plan Profile'!C33,\"\")","v":""},null,{"$f":"IF('Plan Profile'!H33<>\"\",'Plan Profile'!H33,\"\")","v":""},{"$f":"IF('Plan Profile'!I33<>\"\",'Plan Profile'!I33,\"\")","v":""},null,null,"Select"]
[null,{"$f":"'Plan Profile'!B34","v":8},{"$f":"IF('Plan Profile'!C34<>\"\",'Plan Profile'!C34,\"\")","v":""},null,{"$f":"IF('Plan Profile'!H34<>\"\",'Plan Profile'!H34,\"\")","v":""},{"$f":"IF('Plan Profile'!I34<>\"\",'Plan Profile'!I34,\"\")","v":""},null,null,"Select"]
[null,{"$f":"'Plan Profile'!B35","v":9},{"$f":"IF('Plan Profile'!C35<>\"\",'Plan Profile'!C35,\"\")","v":""},null,{"$f":"IF('Plan Profile'!H35<>\"\",'Plan Profile'!H35,\"\")","v":""},{"$f":"IF('Plan Profile'!I35<>\"\",'Plan Profile'!I35,\"\")","v":""},null,null,"Select"]
[null,{"$f":"'Plan Profile'!B36","v":10},{"$f":"IF('Plan Profile'!C36<>\"\",'Plan Profile'!C36,\"\")","v":""},null,{"$f":"IF('Plan Profile'!H36<>\"\",'Plan Profile'!H36,\"\")","v":""},{"$f":"IF('Plan Profile'!I36<>\"\",'Plan Profile'!I36,\"\")","v":""},null,null,"Select"]
[]
[]
[null,"Risk of Flood/Tsunami"]
[null,"Does the airport have a high risk of flood during an earthquake or other natural hazard?"]
[null,"What is the source of water near the airport?"]
[]
[null,"High risk areas in the terminal (for flood)"]
[null,"No","Location",null,"Flood Level Alert"]
[]
[]
[]
[]
[]
[]
[]
[]
[]
[]
[]
[]
[null,"Checklist for Earthquake"]
[null,"Airport Operations",null,null,"Responsible Party","Date and Time Completed"]
[]
[]
[]
[]
[]
[]
[]
[]
[]
[null,"Law Enforcement and Security",null,null,"Responsible Party","Date and Time Completed"]
[]
[]
[]
[]
[]
[]
[]
[]
[]
[null,"Fire and Emergency Medical Services",null,null,"Responsible Party","Date and Time Completed"]

{"sheet":"Tornado","index":9,"n_rows":44,"n_cols":13,"rows_kept":44,"cut":false,"hidden":true,"merged":[[51,5,51,6],[52,5,52,6],[46,5,46,6],[47,5,47,6],[48,5,48,6],[49,5,49,6],[50,5,50,6],[42,5,42,6],[43,5,43,6],[44,5,44,6],[45,5,45,6],[37,5,37,6],[38,5,38,6],[39,5,39,6],[40,5,40,6],[41,5,41,6],[51,1,51,3],[52,1,52,3],[23,5,23,6],[24,5,24,6],[25,5,25,6],[26,5,26,6],[27,5,27,6],[33,5,33,6],[34,5,34,6],[35,5,35,6],[36,5,36,6],[28,5,28,6],[29,5,29,6],[30,5,30,6],[31,5,31,6],[32,5,32,6],[43,1,43,3],[47,1,47,3],[48,1,48,3],[49,1,49,3],[50,1,50,3],[44,1,44,3],[45,1,45,3],[46,1,46,3],[38,1,38,3],[39,1,39,3],[40,1,40,3],[41,1,41,3],[42,1,42,3],[31,1,31,3],[32,1,32,3],[33,1,33,3],[36,1,36,3],[37,1,37,3],[34,1,34,3],[35,1,35,3],[23,1,23,3],[27,1,27,3],[28,1,28,3],[29,1,29,3],[30,1,30,3],[26,1,26,3],[25,1,25,3],[24,1,24,3],[17,2,17,3],[18,2,18,3],[19,2,19,3],[12,2,12,3],[13,2,13,3],[14,2,14,3],[15,2,15,3],[16,2,16,3],[2,2,5,12],[2,1,5,1],[9,2,9,3],[10,2,10,3],[11,2,11,3]]}
[null,"Tornado",null,null,null,null,null,null,null,null,null,null,"Back"]
[]
[null,"Definition:","According to the Glossary of Meteorology (AMS 2000), a tornado is \"a violently rotating column of air, pendant from a cumuliform cloud or underneath a cumuliform cloud, and often (but not always) visible as a funnel cloud.\" (Source: http://www.spc.noaa.gov/faq/tornado/, retrieved on Jan 9, 2013)"]
[]
[]
[]
[]
[]
[null,"Select the documents that need to be referenced in the Terminal Incident Response Plan"]
[null,"No","Document Name",null,"Revision No","Date","Section No","Page No","Include"]
[null,{"$f":"'Plan Profile'!B27","v":1},{"$f":"IF('Plan Profile'!C27<>\"\",'Plan Profile'!C27,\"\")","v":""},null,{"$f":"IF('Plan Profile'!H27<>\"\",'Plan Profile'!H27,\"\")","v":""},{"$f":"IF('Plan Profile'!I27<>\"\",'Plan Profile'!I27,\"\")","v":""},null,null,"Select"]
[null,{"$f":"'Plan Profile'!B28","v":2},{"$f":"IF('Plan Profile'!C28<>\"\",'Plan Profile'!C28,\"\")","v":""},null,{"$f":"IF('Plan Profile'!H28<>\"\",'Plan Profile'!H28,\"\")","v":""},{"$f":"IF('Plan Profile'!I28<>\"\",'Plan Profile'!I28,\"\")","v":""},null,null,"Select"]
[null,{"$f":"'Plan Profile'!B29","v":3},{"$f":"IF('Plan Profile'!C29<>\"\",'Plan Profile'!C29,\"\")","v":""},null,{"$f":"IF('Plan Profile'!H29<>\"\",'Plan Profile'!H29,\"\")","v":""},{"$f":"IF('Plan Profile'!I29<>\"\",'Plan Profile'!I29,\"\")","v":""},null,null,"Select"]
[null,{"$f":"'Plan Profile'!B30","v":4},{"$f":"IF('Plan Profile'!C30<>\"\",'Plan Profile'!C30,\"\")","v":""},null,{"$f":"IF('Plan Profile'!H30<>\"\",'Plan Profile'!H30,\"\")","v":""},{"$f":"IF('Plan Profile'!I30<>\"\",'Plan Profile'!I30,\"\")","v":""},null,null,"Select"]
[null,{"$f":"'Plan Profile'!B31","v":5},{"$f":"IF('Plan Profile'!C31<>\"\",'Plan Profile'!C31,\"\")","v":""},null,{"$f":"IF('Plan Profile'!H31<>\"\",'Plan Profile'!H31,\"\")","v":""},{"$f":"IF('Plan Profile'!I31<>\"\",'Plan Profile'!I31,\"\")","v":""},null,null,"Select"]
[null,{"$f":"'Plan Profile'!B32","v":6},{"$f":"IF('Plan Profile'!C32<>\"\",'Plan Profile'!C32,\"\")","v":""},null,{"$f":"IF('Plan Profile'!H32<>\"\",'Plan Profile'!H32,\"\")","v":""},{"$f":"IF('Plan Profile'!I32<>\"\",'Plan Profile'!I32,\"\")","v":""},null,null,"Select"]
[null,{"$f":"'Plan Profile'!B33","v":7},{"$f":"IF('Plan Profile'!C33<>\"\",'Plan Profile'!C33,\"\")","v":""},null,{"$f":"IF('Plan Profile'!H33<>\"\",'Plan Profile'!H33,\"\")","v":""},{"$f":"IF('Plan Profile'!I33<>\"\",'Plan Profile'!I33,\"\")","v":""},null,null,"Select"]
[null,{"$f":"'Plan Profile'!B34","v":8},{"$f":"IF('Plan Profile'!C34<>\"\",'Plan Profile'!C34,\"\")","v":""},null,{"$f":"IF('Plan Profile'!H34<>\"\",'Plan Profile'!H34,\"\")","v":""},{"$f":"IF('Plan Profile'!I34<>\"\",'Plan Profile'!I34,\"\")","v":""},null,null,"Select"]
[null,{"$f":"'Plan Profile'!B35","v":9},{"$f":"IF('Plan Profile'!C35<>\"\",'Plan Profile'!C35,\"\")","v":""},null,{"$f":"IF('Plan Profile'!H35<>\"\",'Plan Profile'!H35,\"\")","v":""},{"$f":"IF('Plan Profile'!I35<>\"\",'Plan Profile'!I35,\"\")","v":""},null,null,"Select"]
[null,{"$f":"'Plan Profile'!B36","v":10},{"$f":"IF('Plan Profile'!C36<>\"\",'Plan Profile'!C36,\"\")","v":""},null,{"$f":"IF('Plan Profile'!H36<>\"\",'Plan Profile'!H36,\"\")","v":""},{"$f":"IF('Plan Profile'!I36<>\"\",'Plan Profile'!I36,\"\")","v":""},null,null,"Select"]
[]
[]
[null,"Checklist for Tornado"]
[null,"Airport Operations",null,null,"Responsible Party","Date and Time Completed"]
[]
[]
[]
[]
[]
[]
[]
[]
[]
[null,"Law Enforcement and Security",null,null,"Responsible Party","Date and Time Completed"]
[]
[]
[]
[]
[]
[]
[]
[]
[]
[null,"Fire and Emergency Medical Services",null,null,"Responsible Party","Date and Time Completed"]

{"sheet":"Structural Fire","index":10,"n_rows":89,"n_cols":13,"rows_kept":89,"cut":false,"hidden":false,"merged":[[63,5,63,6],[93,5,93,6],[94,5,94,6],[95,5,95,6],[96,5,96,6],[97,5,97,6],[88,5,88,6],[89,5,89,6],[90,5,90,6],[91,5,91,6],[92,5,92,6],[79,5,79,6],[80,5,80,6],[81,5,81,6],[82,5,82,6],[83,5,83,6],[68,5,68,6],[69,5,69,6],[70,5,70,6],[71,5,71,6],[78,5,78,6],[72,5,72,6],[73,5,73,6],[74,5,74,6],[93,1,93,3],[94,1,94,3],[95,1,95,3],[96,1,96,3],[97,1,97,3],[88,1,88,3],[89,1,89,3],[90,1,90,3],[91,1,91,3],[92,1,92,3],[68,1,68,3],[69,1,69,3],[70,1,70,3],[71,1,71,3],[78,1,78,3],[72,1,72,3],[73,1,73,3],[74,1,74,3],[75,1,75,3],[46,5,46,6],[45,5,45,6],[44,5,44,6],[43,5,43,6],[42,5,42,6],[64,1,64,3],[65,1,65,3],[66,1,66,3],[67,1,67,3],[58,1,58,3],[59,1,59,3],[60,1,60,3],[61,1,61,3],[62,1,62,3],[63,1,63,3],[64,5,64,6],[65,5,65,6],[66,5,66,6],[67,5,67,6],[58,5,58,6],[59,5,59,6],[60,5,60,6],[61,5,61,6],[62,5,62,6],[51,3,51,4],[52,3,52,4],[53,3,53,4],[54,3,54,4],[42,3,42,4],[49,3,49,4],[50,3,50,4],[43,3,43,4],[44,3,44,4],[45,3,45,4],[46,3,46,4],[2,1,5,1],[2,2,5,12],[41,3,41,4],[41,5,41,6],[28,3,28,5],[24,2,24,6],[29,3,29,5],[30,3,30,5],[34,3,34,5],[35,3,35,5],[14,2,14,3],[15,2,15,3],[16,2,16,3],[17,2,17,3],[36,3,36,5],[37,3,37,5],[38,3,38,5],[31,7,31,8],[32,7,32,8],[38,7,38,8],[33,7,33,8],[34,7,34,8],[35,7,35,8],[36,7,36,8],[9,2,9,3],[10,2,10,3],[11,2,11,3],[12,2,12,3],[13,2,13,3],[40,1,40,6],[22,1,22,8],[37,7,37,8],[18,2,18,3],[19,2,19,3],[28,7,28,8],[29,7,29,8],[30,7,30,8],[31,3,31,5],[32,3,32,5],[33,3,33,5],[86,1,86,3],[86,5,86,6],[87,1,87,3],[87,5,87,6],[75,5,75,6],[76,1,76,3],[76,5,76,6],[77,1,77,3],[77,5,77,6],[84,1,84,3],[84,5,84,6],[85,1,85,3],[85,5,85,6],[79,1,79,3],[80,1,80,3],[81,1,81,3],[82,1,82,3],[83,1,83,3]]}
[null,"Structural Fire",null,null,null,null,null,null,null,null,null,null,"Back"]
[]
[null,"Definition:","A structure fire is a fire involving the structural components of the terminal buildings. In this study, we limit our study to the structural fire and do not include those affecting aircraft, aircraft movement area, and fuel storage."]
[]
[]
[]
[]
[]
[null,"Select the documents that need to be referenced in the Terminal Incident Response Plan"]
[null,"No","Document Name",null,"Revision No","Date","Section No","Page No","Include"]
[null,{"$f":"'Plan Profile'!B27","v":1},{"$f":"IF('Plan Profile'!C27<>\"\",'Plan Profile'!C27,\"\")","v":""},null,{"$f":"IF('Plan Profile'!H27<>\"\",'Plan Profile'!H27,\"\")","v":""},{"$f":"IF('Plan Profile'!I27<>\"\",'Plan Profile'!I27,\"\")","v":""},null,null,"Select"]
[null,{"$f":"'Plan Profile'!B28","v":2},{"$f":"IF('Plan Profile'!C28<>\"\",'Plan Profile'!C28,\"\")","v":""},null,{"$f":"IF('Plan Profile'!H28<>\"\",'Plan Profile'!H28,\"\")","v":""},{"$f":"IF('Plan Profile'!I28<>\"\",'Plan Profile'!I28,\"\")","v":""},null,null,"Select"]
[null,{"$f":"'Plan Profile'!B29","v":3},{"$f":"IF('Plan Profile'!C29<>\"\",'Plan Profile'!C29,\"\")","v":""},null,{"$f":"IF('Plan Profile'!H29<>\"\",'Plan Profile'!H29,\"\")","v":""},{"$f":"IF('Plan Profile'!I29<>\"\",'Plan Profile'!I29,\"\")","v":""},null,null,"Select"]
[null,{"$f":"'Plan Profile'!B30","v":4},{"$f":"IF('Plan Profile'!C30<>\"\",'Plan Profile'!C30,\"\")","v":""},null,{"$f":"IF('Plan Profile'!H30<>\"\",'Plan Profile'!H30,\"\")","v":""},{"$f":"IF('Plan Profile'!I30<>\"\",'Plan Profile'!I30,\"\")","v":""},null,null,"Select"]
[null,{"$f":"'Plan Profile'!B31","v":5},{"$f":"IF('Plan Profile'!C31<>\"\",'Plan Profile'!C31,\"\")","v":""},null,{"$f":"IF('Plan Profile'!H31<>\"\",'Plan Profile'!H31,\"\")","v":""},{"$f":"IF('Plan Profile'!I31<>\"\",'Plan Profile'!I31,\"\")","v":""},null,null,"Select"]
[null,{"$f":"'Plan Profile'!B32","v":6},{"$f":"IF('Plan Profile'!C32<>\"\",'Plan Profile'!C32,\"\")","v":""},null,{"$f":"IF('Plan Profile'!H32<>\"\",'Plan Profile'!H32,\"\")","v":""},{"$f":"IF('Plan Profile'!I32<>\"\",'Plan Profile'!I32,\"\")","v":""},null,null,"Select"]
[null,{"$f":"'Plan Profile'!B33","v":7},{"$f":"IF('Plan Profile'!C33<>\"\",'Plan Profile'!C33,\"\")","v":""},null,{"$f":"IF('Plan Profile'!H33<>\"\",'Plan Profile'!H33,\"\")","v":""},{"$f":"IF('Plan Profile'!I33<>\"\",'Plan Profile'!I33,\"\")","v":""},null,null,"Select"]
[null,{"$f":"'Plan Profile'!B34","v":8},{"$f":"IF('Plan Profile'!C34<>\"\",'Plan Profile'!C34,\"\")","v":""},null,{"$f":"IF('Plan Profile'!H34<>\"\",'Plan Profile'!H34,\"\")","v":""},{"$f":"IF('Plan Profile'!I34<>\"\",'Plan Profile'!I34,\"\")","v":""},null,null,"Select"]
[null,{"$f":"'Plan Profile'!B35","v":9},{"$f":"IF('Plan Profile'!C35<>\"\",'Plan Profile'!C35,\"\")","v":""},null,{"$f":"IF('Plan Profile'!H35<>\"\",'Plan Profile'!H35,\"\")","v":""},{"$f":"IF('Plan Profile'!I35<>\"\",'Plan Profile'!I35,\"\")","v":""},null,null,"Select"]
[null,{"$f":"'Plan Profile'!B36","v":10},{"$f":"IF('Plan Profile'!C36<>\"\",'Plan Profile'!C36,\"\")","v":""},null,{"$f":"IF('Plan Profile'!H36<>\"\",'Plan Profile'!H36,\"\")","v":""},{"$f":"IF('Plan Profile'!I36<>\"\",'Plan Profile'!I36,\"\")","v":""},null,null,"Select"]
[]
[]
[null,"Respond and assess the situation"]
[null,null,"a. Do you have on-site structural fire fighting capability?"]
[null,null,"b. Does the airport have mutual aid agreements to augment structural fire fighting capability?"]
[]
[]
[null,"High risk areas in the terminal (for fire)"]
[null,"No","Location","Reason",null,null,"Presence of Hazardous Material","Protected By"]
[]
[]
[]
[]
[]
[]
[]
[]
[]
[]
[]
[null,"List of fire protection systems equipped within the terminal."]
[null,"No","Fire Protection/ Suppression Systems","Facilities Affected",null,"Contact or other pertinent information if any"]
[]
[]
[]
[]
[]
[]
[null,"List of Certified Building Inspection Agencies"]
[null,"No","Name ","Contact"]
[]
[]
[]
[]
[]
[]
[]
[null,"Checklist for Structural Fire"]
[null,"Airport Operations",null,null,"Responsible Party","Date and Time Completed"]
[]
[]
[]
[]
[]
[]
[]
[]
[]
[null,"Law Enforcement and Security",null,null,"Responsible Party","Date and Time Completed"]
[]
[]
[]
[]
[]
[]
[]
[]
[]
[null,"Fire and Emergency Medical Services",null,null,"Responsible Party","Date and Time Completed"]
[]
[]
[]
[]
[]
[]
[]
[]
[]
[null,"Facilities and Maintenance",null,null,"Responsible Party","Date and Time Completed"]

{"sheet":"Electrical Outage","index":11,"n_rows":88,"n_cols":13,"rows_kept":88,"cut":false,"hidden":false,"merged":[[49,3,49,4],[98,5,98,6],[99,5,99,6],[79,5,79,6],[80,5,80,6],[87,5,87,6],[88,5,88,6],[89,5,89,6],[90,5,90,6],[91,5,91,6],[92,5,92,6],[93,5,93,6],[66,5,66,6],[67,5,67,6],[68,5,68,6],[69,5,69,6],[70,5,70,6],[71,5,71,6],[77,5,77,6],[78,5,78,6],[72,5,72,6],[73,5,73,6],[74,5,74,6],[75,5,75,6],[76,5,76,6],[53,3,53,4],[52,3,52,4],[51,3,51,4],[50,3,50,4],[57,5,57,6],[58,5,58,6],[59,5,59,6],[60,5,60,6],[61,5,61,6],[62,5,62,6],[63,5,63,6],[64,5,64,6],[65,5,65,6],[62,1,62,3],[63,1,63,3],[64,1,64,3],[65,1,65,3],[66,1,66,3],[57,1,57,3],[58,1,58,3],[59,1,59,3],[60,1,60,3],[61,1,61,3],[97,1,97,3],[98,1,98,3],[99,1,99,3],[87,1,87,3],[88,1,88,3],[89,1,89,3],[90,1,90,3],[91,1,91,3],[97,5,97,6],[77,1,77,3],[78,1,78,3],[79,1,79,3],[80,1,80,3],[67,1,67,3],[68,1,68,3],[69,1,69,3],[70,1,70,3],[71,1,71,3],[72,1,72,3],[73,1,73,3],[74,1,74,3],[75,1,75,3],[76,1,76,3],[33,1,33,2],[34,1,34,2],[35,1,35,2],[43,7,43,8],[45,7,45,8],[45,1,45,2],[45,3,45,4],[43,1,43,2],[43,3,43,4],[44,1,44,2],[44,3,44,4],[44,7,44,8],[36,1,36,2],[36,3,36,4],[30,7,30,8],[31,7,31,8],[32,7,32,8],[33,7,33,8],[34,7,34,8],[35,7,35,8],[39,7,39,8],[40,7,40,8],[46,7,46,8],[41,7,41,8],[42,7,42,8],[36,7,36,8],[50,1,50,2],[51,1,51,2],[52,1,52,2],[53,1,53,2],[49,1,49,2],[35,3,35,4],[33,3,33,4],[34,3,34,4],[30,1,30,2],[31,1,31,2],[32,1,32,2],[30,3,30,4],[31,3,31,4],[32,3,32,4],[46,1,46,2],[46,3,46,4],[41,1,41,2],[41,3,41,4],[39,1,39,2],[39,3,39,4],[40,1,40,2],[40,3,40,4],[42,1,42,2],[42,3,42,4],[2,1,5,1],[2,2,5,12],[24,7,24,8],[29,1,29,2],[29,3,29,4],[29,7,29,8],[9,2,9,3],[10,2,10,3],[11,2,11,3],[12,2,12,3],[13,2,13,3],[14,2,14,3],[15,2,15,3],[16,2,16,3],[17,2,17,3],[18,2,18,3],[19,2,19,3],[24,3,24,4],[25,3,25,4],[26,3,26,4],[24,1,24,2],[25,1,25,2],[26,1,26,2],[86,1,86,3],[86,5,86,6],[94,1,94,3],[94,5,94,6],[95,1,95,3],[95,5,95,6],[96,1,96,3],[96,5,96,6],[81,1,81,3],[81,5,81,6],[82,1,82,3],[82,5,82,6],[83,1,83,3],[83,5,83,6],[84,1,84,3],[84,5,84,6],[85,1,85,3],[85,5,85,6],[92,1,92,3],[93,1,93,3]]}
[null,"Electrical Outage/Power Failure",null,null,null,null,null,null,null,null,null,null,"Back"]
[]
[null,"Definition:","A power outage (also power cut, blackout, or power failure) is a short- or long-term loss of the electric power to the terminal."]
[]
[]
[]
[]
[]
[null,"Select the documents that need to be referenced in the Terminal Incident Response Plan"]
[null,"No","Document Name",null,"Revision No","Date","Section No","Page No","Include"]
[null,{"$f":"'Plan Profile'!B27","v":1},{"$f":"IF('Plan Profile'!C27<>\"\",'Plan Profile'!C27,\"\")","v":""},null,{"$f":"IF('Plan Profile'!H27<>\"\",'Plan Profile'!H27,\"\")","v":""},{"$f":"IF('Plan Profile'!I27<>\"\",'Plan Profile'!I27,\"\")","v":""},null,null,"Select"]
[null,{"$f":"'Plan Profile'!B28","v":2},{"$f":"IF('Plan Profile'!C28<>\"\",'Plan Profile'!C28,\"\")","v":""},null,{"$f":"IF('Plan Profile'!H28<>\"\",'Plan Profile'!H28,\"\")","v":""},{"$f":"IF('Plan Profile'!I28<>\"\",'Plan Profile'!I28,\"\")","v":""},null,null,"Select"]
[null,{"$f":"'Plan Profile'!B29","v":3},{"$f":"IF('Plan Profile'!C29<>\"\",'Plan Profile'!C29,\"\")","v":""},null,{"$f":"IF('Plan Profile'!H29<>\"\",'Plan Profile'!H29,\"\")","v":""},{"$f":"IF('Plan Profile'!I29<>\"\",'Plan Profile'!I29,\"\")","v":""},null,null,"Select"]
[null,{"$f":"'Plan Profile'!B30","v":4},{"$f":"IF('Plan Profile'!C30<>\"\",'Plan Profile'!C30,\"\")","v":""},null,{"$f":"IF('Plan Profile'!H30<>\"\",'Plan Profile'!H30,\"\")","v":""},{"$f":"IF('Plan Profile'!I30<>\"\",'Plan Profile'!I30,\"\")","v":""},null,null,"Select"]
[null,{"$f":"'Plan Profile'!B31","v":5},{"$f":"IF('Plan Profile'!C31<>\"\",'Plan Profile'!C31,\"\")","v":""},null,{"$f":"IF('Plan Profile'!H31<>\"\",'Plan Profile'!H31,\"\")","v":""},{"$f":"IF('Plan Profile'!I31<>\"\",'Plan Profile'!I31,\"\")","v":""},null,null,"Select"]
[null,{"$f":"'Plan Profile'!B32","v":6},{"$f":"IF('Plan Profile'!C32<>\"\",'Plan Profile'!C32,\"\")","v":""},null,{"$f":"IF('Plan Profile'!H32<>\"\",'Plan Profile'!H32,\"\")","v":""},{"$f":"IF('Plan Profile'!I32<>\"\",'Plan Profile'!I32,\"\")","v":""},null,null,"Select"]
[null,{"$f":"'Plan Profile'!B33","v":7},{"$f":"IF('Plan Profile'!C33<>\"\",'Plan Profile'!C33,\"\")","v":""},null,{"$f":"IF('Plan Profile'!H33<>\"\",'Plan Profile'!H33,\"\")","v":""},{"$f":"IF('Plan Profile'!I33<>\"\",'Plan Profile'!I33,\"\")","v":""},null,null,"Select"]
[null,{"$f":"'Plan Profile'!B34","v":8},{"$f":"IF('Plan Profile'!C34<>\"\",'Plan Profile'!C34,\"\")","v":""},null,{"$f":"IF('Plan Profile'!H34<>\"\",'Plan Profile'!H34,\"\")","v":""},{"$f":"IF('Plan Profile'!I34<>\"\",'Plan Profile'!I34,\"\")","v":""},null,null,"Select"]
[null,{"$f":"'Plan Profile'!B35","v":9},{"$f":"IF('Plan Profile'!C35<>\"\",'Plan Profile'!C35,\"\")","v":""},null,{"$f":"IF('Plan Profile'!H35<>\"\",'Plan Profile'!H35,\"\")","v":""},{"$f":"IF('Plan Profile'!I35<>\"\",'Plan Profile'!I35,\"\")","v":""},null,null,"Select"]
[null,{"$f":"'Plan Profile'!B36","v":10},{"$f":"IF('Plan Profile'!C36<>\"\",'Plan Profile'!C36,\"\")","v":""},null,{"$f":"IF('Plan Profile'!H36<>\"\",'Plan Profile'!H36,\"\")","v":""},{"$f":"IF('Plan Profile'!I36<>\"\",'Plan Profile'!I36,\"\")","v":""},null,null,"Select"]
[]
[]
[]
[null,"Power Utility Companies"]
[null,"Primary Power Supplier:"]
[null,"Contact:"]
[null,"Phone Number"]
[]
[null,"Emergency Power Generators"]
[null,"Specification",null,"Location",null,"Terminal Areas Served","Refueling Schedule / Run Time","Special Features (if any)"]
[]
[]
[]
[]
[]
[]
[]
[]
[null,"Uninterrupted Power Supplies (UPS)"]
[null,"Specification",null,"Location",null,"Terminal Areas Served","Backup Life","Special Features (if any)"]
[]
[]
[]
[]
[]
[]
[]
[]
[null,"Priority of the systems to run on generators"]
[null,"System",null,"Power Generator",null,"Terminal Areas Served","Priority Number"]
[]
[]
[]
[]
[]
[]
[null,"Checklist for Electrical Outage"]
[null,"Airport Operations",null,null,"Responsible Party","Date and Time Completed"]
[]
[]
[]
[]
[]
[]
[]
[]
[]
[null,"Law Enforcement and Security",null,null,"Responsible Party","Date and Time Completed"]
[]
[]
[]
[]
[]
[]
[]
[]
[]
[null,"Airport Facilities and Maintenance",null,null,"Responsible Party","Date and Time Completed"]
[]
[]
[]
[]
[]
[]
[]
[]
[]
[null,"Fire and Emergency Medical Services",null,null,"Responsible Party","Date and Time Completed"]

{"sheet":"Bomb Threat","index":12,"n_rows":53,"n_cols":13,"rows_kept":53,"cut":false,"hidden":false,"merged":[[2,2,2,12],[61,5,61,6],[56,5,56,6],[57,5,57,6],[58,5,58,6],[59,5,59,6],[60,5,60,6],[51,5,51,6],[52,5,52,6],[53,5,53,6],[54,5,54,6],[55,5,55,6],[46,5,46,6],[47,5,47,6],[48,5,48,6],[49,5,49,6],[60,1,60,3],[61,1,61,3],[32,5,32,6],[33,5,33,6],[34,5,34,6],[35,5,35,6],[36,5,36,6],[37,5,37,6],[38,5,38,6],[39,5,39,6],[40,5,40,6],[41,5,41,6],[42,5,42,6],[43,5,43,6],[44,5,44,6],[45,5,45,6],[50,5,50,6],[41,1,41,3],[42,1,42,3],[43,1,43,3],[44,1,44,3],[45,1,45,3],[46,1,46,3],[47,1,47,3],[48,1,48,3],[49,1,49,3],[59,1,59,3],[50,1,50,3],[51,1,51,3],[52,1,52,3],[53,1,53,3],[54,1,54,3],[55,1,55,3],[56,1,56,3],[57,1,57,3],[58,1,58,3],[36,1,36,3],[37,1,37,3],[38,1,38,3],[39,1,39,3],[40,1,40,3],[32,1,32,3],[33,1,33,3],[34,1,34,3],[26,5,26,6],[35,1,35,3],[27,7,27,8],[28,7,28,8],[27,3,27,4],[28,3,28,4],[27,5,27,6],[28,5,28,6],[22,1,22,10],[26,3,26,4],[26,7,26,8],[9,2,9,3],[10,2,10,3],[16,2,16,3],[17,2,17,3],[18,2,18,3],[19,2,19,3],[11,2,11,3],[12,2,12,3],[13,2,13,3],[14,2,14,3],[15,2,15,3],[24,1,24,6],[23,1,23,6]]}
[null,"Bomb Threat",null,null,null,null,null,null,null,null,null,null,"Back"]
[]
[null,"Definition:","A bomb threat is legally defined as the communication through the use of mail, telephone, telegram, or other instrument of commerce; the willful making of any threat; or the malicious conveyance of false information knowing the same to be false which concerns an attempt being made, or to be made; to kill, injure, intimidate any individual; or unlawfully to damage or destroy any building, vehicle, or other real or personal property by means of an explosive. (Source: http://www.lsp.org/bomb.html)"]
[]
[]
[]
[]
[]
[null,"Select the documents that need to be referenced in the Terminal Incident Response Plan"]
[null,"No","Document Name",null,"Revision No","Date","Section No","Page No","Include"]
[null,{"$f":"'Plan Profile'!B27","v":1},{"$f":"IF('Plan Profile'!C27<>\"\",'Plan Profile'!C27,\"\")","v":""},null,{"$f":"IF('Plan Profile'!H27<>\"\",'Plan Profile'!H27,\"\")","v":""},{"$f":"IF('Plan Profile'!I27<>\"\",'Plan Profile'!I27,\"\")","v":""},null,null,"Select"]
[null,{"$f":"'Plan Profile'!B28","v":2},{"$f":"IF('Plan Profile'!C28<>\"\",'Plan Profile'!C28,\"\")","v":""},null,{"$f":"IF('Plan Profile'!H28<>\"\",'Plan Profile'!H28,\"\")","v":""},{"$f":"IF('Plan Profile'!I28<>\"\",'Plan Profile'!I28,\"\")","v":""},null,null,"Select"]
[null,{"$f":"'Plan Profile'!B29","v":3},{"$f":"IF('Plan Profile'!C29<>\"\",'Plan Profile'!C29,\"\")","v":""},null,{"$f":"IF('Plan Profile'!H29<>\"\",'Plan Profile'!H29,\"\")","v":""},{"$f":"IF('Plan Profile'!I29<>\"\",'Plan Profile'!I29,\"\")","v":""},null,null,"Select"]
[null,{"$f":"'Plan Profile'!B30","v":4},{"$f":"IF('Plan Profile'!C30<>\"\",'Plan Profile'!C30,\"\")","v":""},null,{"$f":"IF('Plan Profile'!H30<>\"\",'Plan Profile'!H30,\"\")","v":""},{"$f":"IF('Plan Profile'!I30<>\"\",'Plan Profile'!I30,\"\")","v":""},null,null,"Select"]
[null,{"$f":"'Plan Profile'!B31","v":5},{"$f":"IF('Plan Profile'!C31<>\"\",'Plan Profile'!C31,\"\")","v":""},null,{"$f":"IF('Plan Profile'!H31<>\"\",'Plan Profile'!H31,\"\")","v":""},{"$f":"IF('Plan Profile'!I31<>\"\",'Plan Profile'!I31,\"\")","v":""},null,null,"Select"]
[null,{"$f":"'Plan Profile'!B32","v":6},{"$f":"IF('Plan Profile'!C32<>\"\",'Plan Profile'!C32,\"\")","v":""},null,{"$f":"IF('Plan Profile'!H32<>\"\",'Plan Profile'!H32,\"\")","v":""},{"$f":"IF('Plan Profile'!I32<>\"\",'Plan Profile'!I32,\"\")","v":""},null,null,"Select"]
[null,{"$f":"'Plan Profile'!B33","v":7},{"$f":"IF('Plan Profile'!C33<>\"\",'Plan Profile'!C33,\"\")","v":""},null,{"$f":"IF('Plan Profile'!H33<>\"\",'Plan Profile'!H33,\"\")","v":""},{"$f":"IF('Plan Profile'!I33<>\"\",'Plan Profile'!I33,\"\")","v":""},null,null,"Select"]
[null,{"$f":"'Plan Profile'!B34","v":8},{"$f":"IF('Plan Profile'!C34<>\"\",'Plan Profile'!C34,\"\")","v":""},null,{"$f":"IF('Plan Profile'!H34<>\"\",'Plan Profile'!H34,\"\")","v":""},{"$f":"IF('Plan Profile'!I34<>\"\",'Plan Profile'!I34,\"\")","v":""},null,null,"Select"]
[null,{"$f":"'Plan Profile'!B35","v":9},{"$f":"IF('Plan Profile'!C35<>\"\",'Plan Profile'!C35,\"\")","v":""},null,{"$f":"IF('Plan Profile'!H35<>\"\",'Plan Profile'!H35,\"\")","v":""},{"$f":"IF('Plan Profile'!I35<>\"\",'Plan Profile'!I35,\"\")","v":""},null,null,"Select"]
[null,{"$f":"'Plan Profile'!B36","v":10},{"$f":"IF('Plan Profile'!C36<>\"\",'Plan Profile'!C36,\"\")","v":""},null,{"$f":"IF('Plan Profile'!H36<>\"\",'Plan Profile'!H36,\"\")","v":""},{"$f":"IF('Plan Profile'!I36<>\"\",'Plan Profile'!I36,\"\")","v":""},null,null,"Select"]
[]
[]
[null,"Initial Response and Assessment"]
[null,"1. By including the following information about EOD and K9 units, the plan is determined to contain Secured and Sensitive Information (SSI). Do you want to include?"]
[null,"2. Are explosive detection K9 Teams & EOD Technicians available on-site or via mutual aid?"]
[null,null,"If the airport, depends on EOD and K9 units from mutual aid partners, fill their name"]
[null,null,null,"Department Name",null,"Contact",null,"No of Resources"]
[null,null,"EOD"]
[null,null,"K9-units"]
[]
[]
[null,"Checklist for Bomb Threat"]
[null,"Airport Operations",null,null,"Responsible Party","Date and Time Completed"]
[]
[]
[]
[]
[]
[]
[]
[]
[]
[null,"Law Enforcement and Security",null,null,"Responsible Party","Date and Time Completed"]
[]
[]
[]
[]
[]
[]
[]
[]
[]
[null,"Fire and Emergency Medical Services",null,null,"Responsible Party","Date and Time Completed"]

{"sheet":"Security Breach","index":13,"n_rows":56,"n_cols":13,"rows_kept":56,"cut":false,"hidden":false,"merged":[[54,5,54,6],[55,5,55,6],[64,5,64,6],[65,5,65,6],[49,5,49,6],[50,5,50,6],[51,5,51,6],[52,5,52,6],[53,5,53,6],[64,1,64,3],[65,1,65,3],[35,5,35,6],[36,5,36,6],[37,5,37,6],[38,5,38,6],[39,5,39,6],[45,5,45,6],[46,5,46,6],[47,5,47,6],[48,5,48,6],[40,5,40,6],[41,5,41,6],[42,5,42,6],[43,5,43,6],[44,5,44,6],[51,1,51,3],[52,1,52,3],[53,1,53,3],[54,1,54,3],[55,1,55,3],[46,1,46,3],[47,1,47,3],[48,1,48,3],[49,1,49,3],[50,1,50,3],[41,1,41,3],[42,1,42,3],[43,1,43,3],[44,1,44,3],[45,1,45,3],[36,1,36,3],[37,1,37,3],[38,1,38,3],[39,1,39,3],[40,1,40,3],[31,6,31,8],[31,1,31,5],[30,1,30,5],[30,6,30,8],[35,1,35,3],[25,1,25,5],[26,1,26,5],[29,6,29,8],[27,1,27,5],[28,1,28,5],[29,1,29,5],[25,6,25,8],[26,6,26,8],[27,6,27,8],[28,6,28,8],[24,1,24,5],[24,6,24,8],[14,2,14,3],[15,2,15,3],[16,2,16,3],[17,2,17,3],[18,2,18,3],[19,2,19,3],[2,2,2,12],[13,2,13,3],[23,1,23,5],[23,6,23,8],[9,2,9,3],[10,2,10,3],[11,2,11,3],[12,2,12,3],[56,1,56,3],[56,5,56,6],[57,1,57,3],[57,5,57,6],[58,1,58,3],[58,5,58,6],[62,1,62,3],[62,5,62,6],[63,1,63,3],[63,5,63,6],[59,1,59,3],[59,5,59,6],[60,1,60,3],[60,5,60,6],[61,1,61,3],[61,5,61,6]]}
[null,"Security Breach",null,null,null,null,null,null,null,null,null,null,"Back"]
[]
[null,"Definition:","A security breach is a deliberate or unintentional action of a passenger, employee, or other person who has gained unauthorized access to an otherwise secure area without first submitting to all screening, inspections, and detection measures."]
[]
[]
[]
[]
[]
[null,"Select the documents that need to be referenced in the Terminal Incident Response Plan"]
[null,"No","Document Name",null,"Revision No","Date","Section No","Page No","Include"]
[null,{"$f":"'Plan Profile'!B27","v":1},{"$f":"IF('Plan Profile'!C27<>\"\",'Plan Profile'!C27,\"\")","v":""},null,{"$f":"IF('Plan Profile'!H27<>\"\",'Plan Profile'!H27,\"\")","v":""},{"$f":"IF('Plan Profile'!I27<>\"\",'Plan Profile'!I27,\"\")","v":""},null,null,"Select"]
[null,{"$f":"'Plan Profile'!B28","v":2},{"$f":"IF('Plan Profile'!C28<>\"\",'Plan Profile'!C28,\"\")","v":""},null,{"$f":"IF('Plan Profile'!H28<>\"\",'Plan Profile'!H28,\"\")","v":""},{"$f":"IF('Plan Profile'!I28<>\"\",'Plan Profile'!I28,\"\")","v":""},null,null,"Select"]
[null,{"$f":"'Plan Profile'!B29","v":3},{"$f":"IF('Plan Profile'!C29<>\"\",'Plan Profile'!C29,\"\")","v":""},null,{"$f":"IF('Plan Profile'!H29<>\"\",'Plan Profile'!H29,\"\")","v":""},{"$f":"IF('Plan Profile'!I29<>\"\",'Plan Profile'!I29,\"\")","v":""},null,null,"Select"]
[null,{"$f":"'Plan Profile'!B30","v":4},{"$f":"IF('Plan Profile'!C30<>\"\",'Plan Profile'!C30,\"\")","v":""},null,{"$f":"IF('Plan Profile'!H30<>\"\",'Plan Profile'!H30,\"\")","v":""},{"$f":"IF('Plan Profile'!I30<>\"\",'Plan Profile'!I30,\"\")","v":""},null,null,"Select"]
[null,{"$f":"'Plan Profile'!B31","v":5},{"$f":"IF('Plan Profile'!C31<>\"\",'Plan Profile'!C31,\"\")","v":""},null,{"$f":"IF('Plan Profile'!H31<>\"\",'Plan Profile'!H31,\"\")","v":""},{"$f":"IF('Plan Profile'!I31<>\"\",'Plan Profile'!I31,\"\")","v":""},null,null,"Select"]
[null,{"$f":"'Plan Profile'!B32","v":6},{"$f":"IF('Plan Profile'!C32<>\"\",'Plan Profile'!C32,\"\")","v":""},null,{"$f":"IF('Plan Profile'!H32<>\"\",'Plan Profile'!H32,\"\")","v":""},{"$f":"IF('Plan Profile'!I32<>\"\",'Plan Profile'!I32,\"\")","v":""},null,null,"Select"]
[null,{"$f":"'Plan Profile'!B33","v":7},{"$f":"IF('Plan Profile'!C33<>\"\",'Plan Profile'!C33,\"\")","v":""},null,{"$f":"IF('Plan Profile'!H33<>\"\",'Plan Profile'!H33,\"\")","v":""},{"$f":"IF('Plan Profile'!I33<>\"\",'Plan Profile'!I33,\"\")","v":""},null,null,"Select"]
[null,{"$f":"'Plan Profile'!B34","v":8},{"$f":"IF('Plan Profile'!C34<>\"\",'Plan Profile'!C34,\"\")","v":""},null,{"$f":"IF('Plan Profile'!H34<>\"\",'Plan Profile'!H34,\"\")","v":""},{"$f":"IF('Plan Profile'!I34<>\"\",'Plan Profile'!I34,\"\")","v":""},null,null,"Select"]
[null,{"$f":"'Plan Profile'!B35","v":9},{"$f":"IF('Plan Profile'!C35<>\"\",'Plan Profile'!C35,\"\")","v":""},null,{"$f":"IF('Plan Profile'!H35<>\"\",'Plan Profile'!H35,\"\")","v":""},{"$f":"IF('Plan Profile'!I35<>\"\",'Plan Profile'!I35,\"\")","v":""},null,null,"Select"]
[null,{"$f":"'Plan Profile'!B36","v":10},{"$f":"IF('Plan Profile'!C36<>\"\",'Plan Profile'!C36,\"\")","v":""},null,{"$f":"IF('Plan Profile'!H36<>\"\",'Plan Profile'!H36,\"\")","v":""},{"$f":"IF('Plan Profile'!I36<>\"\",'Plan Profile'!I36,\"\")","v":""},null,null,"Select"]
[]
[]
[null,"Security breach classifications"]
[null,"Incident",null,null,null,null,"Level of Severity"]
[]
[]
[]
[]
[]
[]
[]
[]
[]
[]
[null,"Checklist for Security Breach"]
[null,"Airport Operations",null,null,"Responsible Party","Date and Time Completed"]
[]
[]
[]
[]
[]
[]
[]
[]
[]
[null,"Law Enforcement and Security",null,null,"Responsible Party","Date and Time Completed"]
[]
[]
[]
[]
[]
[]
[]
[]
[]
[null,"Fire and Emergency Medical Services",null,null,"Responsible Party","Date and Time Completed"]

{"sheet":"Active Shooter","index":14,"n_rows":55,"n_cols":13,"rows_kept":55,"cut":false,"hidden":false,"merged":[[62,5,62,6],[64,5,64,6],[57,5,57,6],[58,5,58,6],[59,5,59,6],[60,5,60,6],[61,5,61,6],[63,5,63,6],[52,5,52,6],[53,5,53,6],[54,5,54,6],[55,5,55,6],[56,5,56,6],[47,5,47,6],[48,5,48,6],[49,5,49,6],[50,5,50,6],[51,5,51,6],[42,5,42,6],[43,5,43,6],[44,5,44,6],[45,5,45,6],[46,5,46,6],[37,5,37,6],[38,5,38,6],[39,5,39,6],[40,5,40,6],[41,5,41,6],[62,1,62,3],[64,1,64,3],[57,1,57,3],[58,1,58,3],[59,1,59,3],[60,1,60,3],[61,1,61,3],[63,1,63,3],[52,1,52,3],[53,1,53,3],[54,1,54,3],[55,1,55,3],[56,1,56,3],[47,1,47,3],[48,1,48,3],[49,1,49,3],[50,1,50,3],[51,1,51,3],[42,1,42,3],[43,1,43,3],[44,1,44,3],[45,1,45,3],[46,1,46,3],[37,1,37,3],[38,1,38,3],[39,1,39,3],[40,1,40,3],[41,1,41,3],[26,2,26,4],[26,5,26,7],[34,1,34,3],[35,1,35,3],[36,1,36,3],[34,5,34,6],[35,5,35,6],[36,5,36,6],[2,1,5,1],[2,2,5,12],[29,2,29,4],[29,5,29,7],[30,2,30,4],[30,5,30,7],[23,2,23,4],[23,5,23,7],[27,2,27,4],[27,5,27,7],[28,2,28,4],[28,5,28,7],[24,2,24,4],[24,5,24,7],[25,2,25,4],[25,5,25,7],[10,2,10,3],[11,2,11,3],[12,2,12,3],[13,2,13,3],[14,2,14,3],[15,2,15,3],[16,2,16,3],[17,2,17,3],[18,2,18,3],[19,2,19,3]]}
[null,"Active Shooter",null,null,null,null,null,null,null,null,null,null,"Back"]
[]
[null,"Definition:","An active shooter is an armed person who has used deadly physical force on other persons and continues to do so while having unrestricted access to additional victims. (Source: JMAA)"]
[]
[]
[]
[]
[]
[null,"Select the documents that need to be referenced in the Terminal Incident Response Plan"]
[null,"No","Document Name",null,"Revision No","Date","Section No","Page No","Include"]
[null,{"$f":"'Plan Profile'!B27","v":1},{"$f":"IF('Plan Profile'!C27<>\"\",'Plan Profile'!C27,\"\")","v":""},null,{"$f":"IF('Plan Profile'!H27<>\"\",'Plan Profile'!H27,\"\")","v":""},{"$f":"IF('Plan Profile'!I27<>\"\",'Plan Profile'!I27,\"\")","v":""},null,null,"Select"]
[null,{"$f":"'Plan Profile'!B28","v":2},{"$f":"IF('Plan Profile'!C28<>\"\",'Plan Profile'!C28,\"\")","v":""},null,{"$f":"IF('Plan Profile'!H28<>\"\",'Plan Profile'!H28,\"\")","v":""},{"$f":"IF('Plan Profile'!I28<>\"\",'Plan Profile'!I28,\"\")","v":""},null,null,"Select"]
[null,{"$f":"'Plan Profile'!B29","v":3},{"$f":"IF('Plan Profile'!C29<>\"\",'Plan Profile'!C29,\"\")","v":""},null,{"$f":"IF('Plan Profile'!H29<>\"\",'Plan Profile'!H29,\"\")","v":""},{"$f":"IF('Plan Profile'!I29<>\"\",'Plan Profile'!I29,\"\")","v":""},null,null,"Select"]
[null,{"$f":"'Plan Profile'!B30","v":4},{"$f":"IF('Plan Profile'!C30<>\"\",'Plan Profile'!C30,\"\")","v":""},null,{"$f":"IF('Plan Profile'!H30<>\"\",'Plan Profile'!H30,\"\")","v":""},{"$f":"IF('Plan Profile'!I30<>\"\",'Plan Profile'!I30,\"\")","v":""},null,null,"Select"]
[null,{"$f":"'Plan Profile'!B31","v":5},{"$f":"IF('Plan Profile'!C31<>\"\",'Plan Profile'!C31,\"\")","v":""},null,{"$f":"IF('Plan Profile'!H31<>\"\",'Plan Profile'!H31,\"\")","v":""},{"$f":"IF('Plan Profile'!I31<>\"\",'Plan Profile'!I31,\"\")","v":""},null,null,"Select"]
[null,{"$f":"'Plan Profile'!B32","v":6},{"$f":"IF('Plan Profile'!C32<>\"\",'Plan Profile'!C32,\"\")","v":""},null,{"$f":"IF('Plan Profile'!H32<>\"\",'Plan Profile'!H32,\"\")","v":""},{"$f":"IF('Plan Profile'!I32<>\"\",'Plan Profile'!I32,\"\")","v":""},null,null,"Select"]
[null,{"$f":"'Plan Profile'!B33","v":7},{"$f":"IF('Plan Profile'!C33<>\"\",'Plan Profile'!C33,\"\")","v":""},null,{"$f":"IF('Plan Profile'!H33<>\"\",'Plan Profile'!H33,\"\")","v":""},{"$f":"IF('Plan Profile'!I33<>\"\",'Plan Profile'!I33,\"\")","v":""},null,null,"Select"]
[null,{"$f":"'Plan Profile'!B34","v":8},{"$f":"IF('Plan Profile'!C34<>\"\",'Plan Profile'!C34,\"\")","v":""},null,{"$f":"IF('Plan Profile'!H34<>\"\",'Plan Profile'!H34,\"\")","v":""},{"$f":"IF('Plan Profile'!I34<>\"\",'Plan Profile'!I34,\"\")","v":""},null,null,"Select"]
[null,{"$f":"'Plan Profile'!B35","v":9},{"$f":"IF('Plan Profile'!C35<>\"\",'Plan Profile'!C35,\"\")","v":""},null,{"$f":"IF('Plan Profile'!H35<>\"\",'Plan Profile'!H35,\"\")","v":""},{"$f":"IF('Plan Profile'!I35<>\"\",'Plan Profile'!I35,\"\")","v":""},null,null,"Select"]
[null,{"$f":"'Plan Profile'!B36","v":10},{"$f":"IF('Plan Profile'!C36<>\"\",'Plan Profile'!C36,\"\")","v":""},null,{"$f":"IF('Plan Profile'!H36<>\"\",'Plan Profile'!H36,\"\")","v":""},{"$f":"IF('Plan Profile'!I36<>\"\",'Plan Profile'!I36,\"\")","v":""},null,null,"Select"]
[]
[]
[null,"Holding Areas at the airport for purposes of detaining witnesses for debriefing"]
[null,"No","Location",null,null,"Terminal Area Served"]
[]
[]
[]
[]
[]
[]
[]
[]
[]
[null,"Checklist for Active Shooter"]
[null,"Airport Operations",null,null,"Responsible Party","Date and Time Completed"]
[]
[]
[]
[]
[]
[]
[]
[]
[]
[null,"Law Enforcement and Security",null,null,"Responsible Party","Date and Time Completed"]
[]
[]
[]
[]
[]
[]
[]
[]
[]
[null,"Fire and Emergency Medical Services",null,null,"Responsible Party","Date and Time Completed"]

{"sheet":"Useful Links","index":15,"n_rows":18,"n_cols":1,"rows_kept":18,"cut":false,"hidden":false,"merged":[]}
["Useful Websites"]
["National Weather Service"]
["FEMA"]
["NIMS"]
[]
[]
[]
[]
[]
[]
[]
[]
[]
[]
[]
[]
["The two pictures are placeholders for the  "]
["Word document and should not be removed."]

{"sheet":"Embedded_Files","index":16,"n_rows":0,"n_cols":0,"rows_kept":0,"cut":false,"hidden":true,"merged":[]}